{"text_format":"1","workbook":"xlsx","n_sheets":6,"sheets":["Title","Tech Pay","Input Sheet","RO Report 1-50","RO Report 51-100","Summary Report"],"not_rendered":{"charts":1,"images":1,"macros":1,"external_links":0,"defined_names":1,"comments":2,"pivot_tables":0},"unopened":[],"bounds":{"document_bytes":16777216,"sheet_cells":100000,"rows_first":2000,"rows_last":500,"rows_between":2000,"halvings":0,"cell_chars":16384,"cell_head_chars":4096},"cells_cut":0,"cells_raw":0,"read":"whole","date_system":"1900"}

{"sheet":"Title","index":0,"n_rows":36,"n_cols":11,"rows_kept":36,"cut":false,"hidden":false,"merged":[[15,0,15,9],[16,0,16,9],[35,7,39,9]]}
[]
[]
[]
[]
[]
[]
[]
[]
[]
[]
[]
[]
[]
[]
[]
["Repair Order Analysis"]
["And Summary",null,null,null,null,null,null,null,null,null,{"$f":"TODAY()","v":"2017-02-16"}]
[]
[]
[]
[]
[]
[]
[]
[]
[]
[]
[]
[]
["Dealership "]
[]
[]
["Student "]
[]
[]
["Class and ID Number",null,null,null,null,null,null,"Computer Application by            George A. Parker                Management Instructor           NADA Dealer Academy"]

{"sheet":"Tech Pay","index":1,"n_rows":7,"n_cols":4,"rows_kept":7,"cut":false,"hidden":false,"merged":[]}
[null,"Tech #","Tech Pay Per FRH"]
[]
[]
[]
[]
[]
[null,null,null,"          "]

{"sheet":"Input Sheet","index":2,"n_rows":113,"n_cols":23,"rows_kept":113,"cut":false,"hidden":false,"merged":[[107,20,108,20],[106,21,108,21],[106,22,108,22],[106,6,106,10],[3,10,4,10],[106,11,106,15],[106,16,106,20],[107,11,108,11],[107,12,108,12],[107,13,108,13],[107,14,108,14],[107,15,108,15],[107,16,108,16],[107,17,108,17],[3,18,4,18],[3,19,4,19],[107,18,108,18],[107,19,108,19],[107,6,108,6],[107,7,108,7],[107,8,108,8],[107,9,108,9],[107,10,108,10],[1,2,1,6],[2,21,4,21],[2,6,2,10],[2,11,2,15],[3,11,4,11],[3,12,4,12],[3,13,4,13],[3,14,4,14],[3,15,4,15],[3,6,4,6],[3,7,4,7],[3,8,4,8],[3,9,4,9],[3,20,4,20],[2,22,4,22],[3,2,4,2],[2,16,2,20],[3,16,4,16],[3,17,4,17],[3,3,4,3],[3,4,4,4],[3,5,4,5]]}
[]
[null,null,"Repair Order Analysis Input Sheet"]
[null,null,null,null,null,null,"Competitive Labor",null,null,null,null,"Maintenance Labor",null,null,null,null,"Repair Labor",null,null,null,null,"Total Cost of Labor","One Item Repair Order"]
[null,null,"RO Number","Year","Model ","Mileage","Labor Sales","Flat Rate Hours","Technican Number","Pay Per FRH","Labor Cost ","Labor Sales","Flat Rate Hours","Technican Number","Pay Per FRH","Labor Cost ","Labor Sales","Flat Rate Hours","Technican Number","Pay Per FRH","Labor Cost "]
[]
[null,1,null,null,null,null,null,null,null,{"$f":"IF(ISERROR(VLOOKUP('Input Sheet'!$I6,TechNumber,2,FALSE)),\"\",VLOOKUP('Input Sheet'!$I6,TechNumber,2,FALSE))","v":""},{"$f":"IF(ISERROR(H6*J6),\"\",H6*J6)","v":""},null,null,null,{"$f":"IF(ISERROR(VLOOKUP('Input Sheet'!$N6,TechNumber,2,FALSE)),\"\",VLOOKUP('Input Sheet'!$N6,TechNumber,2,FALSE))","v":""},{"$f":"IF(ISERROR(M6*O6),\" \",M6*O6)","v":" "},null,null,null,{"$f":"IF(ISERROR(VLOOKUP('Input Sheet'!$S6,TechNumber,2,FALSE)),\"\",VLOOKUP('Input Sheet'!$S6,TechNumber,2,FALSE))","v":""},{"$f":"IF(ISERROR(R6*T6),\"\",R6*T6)","v":""},{"$f":"SUM(U6,P6,K6)","v":0}]
[null,2,null,null,null,null,null,null,null,{"$f":"IF(ISERROR(VLOOKUP('Input Sheet'!$I7,TechNumber,2,FALSE)),\"\",VLOOKUP('Input Sheet'!$I7,TechNumber,2,FALSE))","v":""},"",null,null,null,{"$f":"IF(ISERROR(VLOOKUP('Input Sheet'!$N7,TechNumber,2,FALSE)),\"\",VLOOKUP('Input Sheet'!$N7,TechNumber,2,FALSE))","v":""}," ",null,null,null,{"$f":"IF(ISERROR(VLOOKUP('Input Sheet'!$S7,TechNumber,2,FALSE)),\"\",VLOOKUP('Input Sheet'!$S7,TechNumber,2,FALSE))","v":""},"",{"$f":"SUM(U7,P7,K7)","v":0}]
[null,3,null,null,null,null,null,null,null,{"$f":"IF(ISERROR(VLOOKUP('Input Sheet'!$I8,TechNumber,2,FALSE)),\"\",VLOOKUP('Input Sheet'!$I8,TechNumber,2,FALSE))","v":""},"",null,null,null,{"$f":"IF(ISERROR(VLOOKUP('Input Sheet'!$N8,TechNumber,2,FALSE)),\"\",VLOOKUP('Input Sheet'!$N8,TechNumber,2,FALSE))","v":""}," ",null,null,null,{"$f":"IF(ISERROR(VLOOKUP('Input Sheet'!$S8,TechNumber,2,FALSE)),\"\",VLOOKUP('Input Sheet'!$S8,TechNumber,2,FALSE))","v":""},"",0]
[null,4,null,null,null,null,null,null,null,{"$f":"IF(ISERROR(VLOOKUP('Input Sheet'!$I9,TechNumber,2,FALSE)),\"\",VLOOKUP('Input Sheet'!$I9,TechNumber,2,FALSE))","v":""},"",null,null,null,{"$f":"IF(ISERROR(VLOOKUP('Input Sheet'!$N9,TechNumber,2,FALSE)),\"\",VLOOKUP('Input Sheet'!$N9,TechNumber,2,FALSE))","v":""}," ",null,null,null,{"$f":"IF(ISERROR(VLOOKUP('Input Sheet'!$S9,TechNumber,2,FALSE)),\"\",VLOOKUP('Input Sheet'!$S9,TechNumber,2,FALSE))","v":""},"",0]
[null,5,null,null,null,null,null,null,null,{"$f":"IF(ISERROR(VLOOKUP('Input Sheet'!$I10,TechNumber,2,FALSE)),\"\",VLOOKUP('Input Sheet'!$I10,TechNumber,2,FALSE))","v":""},{"$f":"IF(ISERROR(H10*J10),\"\",H10*J10)","v":""},null,null,null,{"$f":"IF(ISERROR(VLOOKUP('Input Sheet'!$N10,TechNumber,2,FALSE)),\"\",VLOOKUP('Input Sheet'!$N10,TechNumber,2,FALSE))","v":""}," ",null,null,null,{"$f":"IF(ISERROR(VLOOKUP('Input Sheet'!$S10,TechNumber,2,FALSE)),\"\",VLOOKUP('Input Sheet'!$S10,TechNumber,2,FALSE))","v":""},"",0]
[null,6,null,null,null,null,null,null,null,{"$f":"IF(ISERROR(VLOOKUP('Input Sheet'!$I11,TechNumber,2,FALSE)),\"\",VLOOKUP('Input Sheet'!$I11,TechNumber,2,FALSE))","v":""},"",null,null,null,{"$f":"IF(ISERROR(VLOOKUP('Input Sheet'!$N11,TechNumber,2,FALSE)),\"\",VLOOKUP('Input Sheet'!$N11,TechNumber,2,FALSE))","v":""}," ",null,null,null,{"$f":"IF(ISERROR(VLOOKUP('Input Sheet'!$S11,TechNumber,2,FALSE)),\"\",VLOOKUP('Input Sheet'!$S11,TechNumber,2,FALSE))","v":""},"",0]
[null,7,null,null,null,null,null,null,null,{"$f":"IF(ISERROR(VLOOKUP('Input Sheet'!$I12,TechNumber,2,FALSE)),\"\",VLOOKUP('Input Sheet'!$I12,TechNumber,2,FALSE))","v":""},"",null,null,null,{"$f":"IF(ISERROR(VLOOKUP('Input Sheet'!$N12,TechNumber,2,FALSE)),\"\",VLOOKUP('Input Sheet'!$N12,TechNumber,2,FALSE))","v":""}," ",null,null,null,{"$f":"IF(ISERROR(VLOOKUP('Input Sheet'!$S12,TechNumber,2,FALSE)),\"\",VLOOKUP('Input Sheet'!$S12,TechNumber,2,FALSE))","v":""},"",0]
[null,8,null,null,null,null,null,null,null,{"$f":"IF(ISERROR(VLOOKUP('Input Sheet'!$I13,TechNumber,2,FALSE)),\"\",VLOOKUP('Input Sheet'!$I13,TechNumber,2,FALSE))","v":""},"",null,null,null,{"$f":"IF(ISERROR(VLOOKUP('Input Sheet'!$N13,TechNumber,2,FALSE)),\"\",VLOOKUP('Input Sheet'!$N13,TechNumber,2,FALSE))","v":""}," ",null,null,null,{"$f":"IF(ISERROR(VLOOKUP('Input Sheet'!$S13,TechNumber,2,FALSE)),\"\",VLOOKUP('Input Sheet'!$S13,TechNumber,2,FALSE))","v":""},"",0]
[null,9,null,null,null,null,null,null,null,{"$f":"IF(ISERROR(VLOOKUP('Input Sheet'!$I14,TechNumber,2,FALSE)),\"\",VLOOKUP('Input Sheet'!$I14,TechNumber,2,FALSE))","v":""},"",null,null,null,{"$f":"IF(ISERROR(VLOOKUP('Input Sheet'!$N14,TechNumber,2,FALSE)),\"\",VLOOKUP('Input Sheet'!$N14,TechNumber,2,FALSE))","v":""}," ",null,null,null,{"$f":"IF(ISERROR(VLOOKUP('Input Sheet'!$S14,TechNumber,2,FALSE)),\"\",VLOOKUP('Input Sheet'!$S14,TechNumber,2,FALSE))","v":""},"",0]
[null,10,null,null,null,null,null,null,null,{"$f":"IF(ISERROR(VLOOKUP('Input Sheet'!$I15,TechNumber,2,FALSE)),\"\",VLOOKUP('Input Sheet'!$I15,TechNumber,2,FALSE))","v":""},"",null,null,null,{"$f":"IF(ISERROR(VLOOKUP('Input Sheet'!$N15,TechNumber,2,FALSE)),\"\",VLOOKUP('Input Sheet'!$N15,TechNumber,2,FALSE))","v":""}," ",null,null,null,{"$f":"IF(ISERROR(VLOOKUP('Input Sheet'!$S15,TechNumber,2,FALSE)),\"\",VLOOKUP('Input Sheet'!$S15,TechNumber,2,FALSE))","v":""},"",0]
[null,11,null,null,null,null,null,null,null,{"$f":"IF(ISERROR(VLOOKUP('Input Sheet'!$I16,TechNumber,2,FALSE)),\"\",VLOOKUP('Input Sheet'!$I16,TechNumber,2,FALSE))","v":""},"",null,null,null,{"$f":"IF(ISERROR(VLOOKUP('Input Sheet'!$N16,TechNumber,2,FALSE)),\"\",VLOOKUP('Input Sheet'!$N16,TechNumber,2,FALSE))","v":""}," ",null,null,null,{"$f":"IF(ISERROR(VLOOKUP('Input Sheet'!$S16,TechNumber,2,FALSE)),\"\",VLOOKUP('Input Sheet'!$S16,TechNumber,2,FALSE))","v":""},"",0]
[null,12,null,null,null,null,null,null,null,{"$f":"IF(ISERROR(VLOOKUP('Input Sheet'!$I17,TechNumber,2,FALSE)),\"\",VLOOKUP('Input Sheet'!$I17,TechNumber,2,FALSE))","v":""},"",null,null,null,{"$f":"IF(ISERROR(VLOOKUP('Input Sheet'!$N17,TechNumber,2,FALSE)),\"\",VLOOKUP('Input Sheet'!$N17,TechNumber,2,FALSE))","v":""}," ",null,null,null,{"$f":"IF(ISERROR(VLOOKUP('Input Sheet'!$S17,TechNumber,2,FALSE)),\"\",VLOOKUP('Input Sheet'!$S17,TechNumber,2,FALSE))","v":""},"",0]
[null,13,null,null,null,null,null,null,null,{"$f":"IF(ISERROR(VLOOKUP('Input Sheet'!$I18,TechNumber,2,FALSE)),\"\",VLOOKUP('Input Sheet'!$I18,TechNumber,2,FALSE))","v":""},"",null,null,null,{"$f":"IF(ISERROR(VLOOKUP('Input Sheet'!$N18,TechNumber,2,FALSE)),\"\",VLOOKUP('Input Sheet'!$N18,TechNumber,2,FALSE))","v":""}," ",null,null,null,{"$f":"IF(ISERROR(VLOOKUP('Input Sheet'!$S18,TechNumber,2,FALSE)),\"\",VLOOKUP('Input Sheet'!$S18,TechNumber,2,FALSE))","v":""},"",0]
[null,14,null,null,null,null,null,null,null,{"$f":"IF(ISERROR(VLOOKUP('Input Sheet'!$I19,TechNumber,2,FALSE)),\"\",VLOOKUP('Input Sheet'!$I19,TechNumber,2,FALSE))","v":""},"",null,null,null,{"$f":"IF(ISERROR(VLOOKUP('Input Sheet'!$N19,TechNumber,2,FALSE)),\"\",VLOOKUP('Input Sheet'!$N19,TechNumber,2,FALSE))","v":""}," ",null,null,null,{"$f":"IF(ISERROR(VLOOKUP('Input Sheet'!$S19,TechNumber,2,FALSE)),\"\",VLOOKUP('Input Sheet'!$S19,TechNumber,2,FALSE))","v":""},"",0]
[null,15,null,null,null,null,null,null,null,{"$f":"IF(ISERROR(VLOOKUP('Input Sheet'!$I20,TechNumber,2,FALSE)),\"\",VLOOKUP('Input Sheet'!$I20,TechNumber,2,FALSE))","v":""},"",null,null,null,{"$f":"IF(ISERROR(VLOOKUP('Input Sheet'!$N20,TechNumber,2,FALSE)),\"\",VLOOKUP('Input Sheet'!$N20,TechNumber,2,FALSE))","v":""}," ",null,null,null,{"$f":"IF(ISERROR(VLOOKUP('Input Sheet'!$S20,TechNumber,2,FALSE)),\"\",VLOOKUP('Input Sheet'!$S20,TechNumber,2,FALSE))","v":""},"",0]
[null,16,null,null,null,null,null,null,null,{"$f":"IF(ISERROR(VLOOKUP('Input Sheet'!$I21,TechNumber,2,FALSE)),\"\",VLOOKUP('Input Sheet'!$I21,TechNumber,2,FALSE))","v":""},"",null,null,null,{"$f":"IF(ISERROR(VLOOKUP('Input Sheet'!$N21,TechNumber,2,FALSE)),\"\",VLOOKUP('Input Sheet'!$N21,TechNumber,2,FALSE))","v":""}," ",null,null,null,{"$f":"IF(ISERROR(VLOOKUP('Input Sheet'!$S21,TechNumber,2,FALSE)),\"\",VLOOKUP('Input Sheet'!$S21,TechNumber,2,FALSE))","v":""},"",0]
[null,17,null,null,null,null,null,null,null,{"$f":"IF(ISERROR(VLOOKUP('Input Sheet'!$I22,TechNumber,2,FALSE)),\"\",VLOOKUP('Input Sheet'!$I22,TechNumber,2,FALSE))","v":""},"",null,null,null,{"$f":"IF(ISERROR(VLOOKUP('Input Sheet'!$N22,TechNumber,2,FALSE)),\"\",VLOOKUP('Input Sheet'!$N22,TechNumber,2,FALSE))","v":""}," ",null,null,null,{"$f":"IF(ISERROR(VLOOKUP('Input Sheet'!$S22,TechNumber,2,FALSE)),\"\",VLOOKUP('Input Sheet'!$S22,TechNumber,2,FALSE))","v":""},"",0]
[null,18,null,null,null,null,null,null,null,{"$f":"IF(ISERROR(VLOOKUP('Input Sheet'!$I23,TechNumber,2,FALSE)),\"\",VLOOKUP('Input Sheet'!$I23,TechNumber,2,FALSE))","v":""},"",null,null,null,{"$f":"IF(ISERROR(VLOOKUP('Input Sheet'!$N23,TechNumber,2,FALSE)),\"\",VLOOKUP('Input Sheet'!$N23,TechNumber,2,FALSE))","v":""}," ",null,null,null,{"$f":"IF(ISERROR(VLOOKUP('Input Sheet'!$S23,TechNumber,2,FALSE)),\"\",VLOOKUP('Input Sheet'!$S23,TechNumber,2,FALSE))","v":""},"",0]
[null,19,null,null,null,null,null,null,null,{"$f":"IF(ISERROR(VLOOKUP('Input Sheet'!$I24,TechNumber,2,FALSE)),\"\",VLOOKUP('Input Sheet'!$I24,TechNumber,2,FALSE))","v":""},"",null,null,null,{"$f":"IF(ISERROR(VLOOKUP('Input Sheet'!$N24,TechNumber,2,FALSE)),\"\",VLOOKUP('Input Sheet'!$N24,TechNumber,2,FALSE))","v":""}," ",null,null,null,{"$f":"IF(ISERROR(VLOOKUP('Input Sheet'!$S24,TechNumber,2,FALSE)),\"\",VLOOKUP('Input Sheet'!$S24,TechNumber,2,FALSE))","v":""},"",0]
[null,20,null,null,null,null,null,null,null,{"$f":"IF(ISERROR(VLOOKUP('Input Sheet'!$I25,TechNumber,2,FALSE)),\"\",VLOOKUP('Input Sheet'!$I25,TechNumber,2,FALSE))","v":""},"",null,null,null,{"$f":"IF(ISERROR(VLOOKUP('Input Sheet'!$N25,TechNumber,2,FALSE)),\"\",VLOOKUP('Input Sheet'!$N25,TechNumber,2,FALSE))","v":""}," ",null,null,null,{"$f":"IF(ISERROR(VLOOKUP('Input Sheet'!$S25,TechNumber,2,FALSE)),\"\",VLOOKUP('Input Sheet'!$S25,TechNumber,2,FALSE))","v":""},"",0]
[null,21,null,null,null,null,null,null,null,{"$f":"IF(ISERROR(VLOOKUP('Input Sheet'!$I26,TechNumber,2,FALSE)),\"\",VLOOKUP('Input Sheet'!$I26,TechNumber,2,FALSE))","v":""},"",null,null,null,{"$f":"IF(ISERROR(VLOOKUP('Input Sheet'!$N26,TechNumber,2,FALSE)),\"\",VLOOKUP('Input Sheet'!$N26,TechNumber,2,FALSE))","v":""}," ",null,null,null,{"$f":"IF(ISERROR(VLOOKUP('Input Sheet'!$S26,TechNumber,2,FALSE)),\"\",VLOOKUP('Input Sheet'!$S26,TechNumber,2,FALSE))","v":""},"",0]
[null,22,null,null,null,null,null,null,null,{"$f":"IF(ISERROR(VLOOKUP('Input Sheet'!$I27,TechNumber,2,FALSE)),\"\",VLOOKUP('Input Sheet'!$I27,TechNumber,2,FALSE))","v":""},"",null,null,null,{"$f":"IF(ISERROR(VLOOKUP('Input Sheet'!$N27,TechNumber,2,FALSE)),\"\",VLOOKUP('Input Sheet'!$N27,TechNumber,2,FALSE))","v":""}," ",null,null,null,{"$f":"IF(ISERROR(VLOOKUP('Input Sheet'!$S27,TechNumber,2,FALSE)),\"\",VLOOKUP('Input Sheet'!$S27,TechNumber,2,FALSE))","v":""},"",0]
[null,23,null,null,null,null,null,null,null,{"$f":"IF(ISERROR(VLOOKUP('Input Sheet'!$I28,TechNumber,2,FALSE)),\"\",VLOOKUP('Input Sheet'!$I28,TechNumber,2,FALSE))","v":""},"",null,null,null,{"$f":"IF(ISERROR(VLOOKUP('Input Sheet'!$N28,TechNumber,2,FALSE)),\"\",VLOOKUP('Input Sheet'!$N28,TechNumber,2,FALSE))","v":""}," ",null,null,null,{"$f":"IF(ISERROR(VLOOKUP('Input Sheet'!$S28,TechNumber,2,FALSE)),\"\",VLOOKUP('Input Sheet'!$S28,TechNumber,2,FALSE))","v":""},"",0]
[null,24,null,null,null,null,null,null,null,{"$f":"IF(ISERROR(VLOOKUP('Input Sheet'!$I29,TechNumber,2,FALSE)),\"\",VLOOKUP('Input Sheet'!$I29,TechNumber,2,FALSE))","v":""},"",null,null,null,{"$f":"IF(ISERROR(VLOOKUP('Input Sheet'!$N29,TechNumber,2,FALSE)),\"\",VLOOKUP('Input Sheet'!$N29,TechNumber,2,FALSE))","v":""}," ",null,null,null,{"$f":"IF(ISERROR(VLOOKUP('Input Sheet'!$S29,TechNumber,2,FALSE)),\"\",VLOOKUP('Input Sheet'!$S29,TechNumber,2,FALSE))","v":""},"",0]
[null,25,null,null,null,null,null,null,null,{"$f":"IF(ISERROR(VLOOKUP('Input Sheet'!$I30,TechNumber,2,FALSE)),\"\",VLOOKUP('Input Sheet'!$I30,TechNumber,2,FALSE))","v":""},"",null,null,null,{"$f":"IF(ISERROR(VLOOKUP('Input Sheet'!$N30,TechNumber,2,FALSE)),\"\",VLOOKUP('Input Sheet'!$N30,TechNumber,2,FALSE))","v":""}," ",null,null,null,{"$f":"IF(ISERROR(VLOOKUP('Input Sheet'!$S30,TechNumber,2,FALSE)),\"\",VLOOKUP('Input Sheet'!$S30,TechNumber,2,FALSE))","v":""},"",0]
[null,26,null,null,null,null,null,null,null,{"$f":"IF(ISERROR(VLOOKUP('Input Sheet'!$I31,TechNumber,2,FALSE)),\"\",VLOOKUP('Input Sheet'!$I31,TechNumber,2,FALSE))","v":""},"",null,null,null,{"$f":"IF(ISERROR(VLOOKUP('Input Sheet'!$N31,TechNumber,2,FALSE)),\"\",VLOOKUP('Input Sheet'!$N31,TechNumber,2,FALSE))","v":""}," ",null,null,null,{"$f":"IF(ISERROR(VLOOKUP('Input Sheet'!$S31,TechNumber,2,FALSE)),\"\",VLOOKUP('Input Sheet'!$S31,TechNumber,2,FALSE))","v":""},"",0]
[null,27,null,null,null,null,null,null,null,{"$f":"IF(ISERROR(VLOOKUP('Input Sheet'!$I32,TechNumber,2,FALSE)),\"\",VLOOKUP('Input Sheet'!$I32,TechNumber,2,FALSE))","v":""},"",null,null,null,{"$f":"IF(ISERROR(VLOOKUP('Input Sheet'!$N32,TechNumber,2,FALSE)),\"\",VLOOKUP('Input Sheet'!$N32,TechNumber,2,FALSE))","v":""}," ",null,null,null,{"$f":"IF(ISERROR(VLOOKUP('Input Sheet'!$S32,TechNumber,2,FALSE)),\"\",VLOOKUP('Input Sheet'!$S32,TechNumber,2,FALSE))","v":""},"",0]
[null,28,null,null,null,null,null,null,null,{"$f":"IF(ISERROR(VLOOKUP('Input Sheet'!$I33,TechNumber,2,FALSE)),\"\",VLOOKUP('Input Sheet'!$I33,TechNumber,2,FALSE))","v":""},"",null,null,null,{"$f":"IF(ISERROR(VLOOKUP('Input Sheet'!$N33,TechNumber,2,FALSE)),\"\",VLOOKUP('Input Sheet'!$N33,TechNumber,2,FALSE))","v":""}," ",null,null,null,{"$f":"IF(ISERROR(VLOOKUP('Input Sheet'!$S33,TechNumber,2,FALSE)),\"\",VLOOKUP('Input Sheet'!$S33,TechNumber,2,FALSE))","v":""},"",0]
[null,29,null,null,null,null,null,null,null,{"$f":"IF(ISERROR(VLOOKUP('Input Sheet'!$I34,TechNumber,2,FALSE)),\"\",VLOOKUP('Input Sheet'!$I34,TechNumber,2,FALSE))","v":""},"",null,null,null,{"$f":"IF(ISERROR(VLOOKUP('Input Sheet'!$N34,TechNumber,2,FALSE)),\"\",VLOOKUP('Input Sheet'!$N34,TechNumber,2,FALSE))","v":""}," ",null,null,null,{"$f":"IF(ISERROR(VLOOKUP('Input Sheet'!$S34,TechNumber,2,FALSE)),\"\",VLOOKUP('Input Sheet'!$S34,TechNumber,2,FALSE))","v":""},"",0]
[null,30,null,null,null,null,null,null,null,{"$f":"IF(ISERROR(VLOOKUP('Input Sheet'!$I35,TechNumber,2,FALSE)),\"\",VLOOKUP('Input Sheet'!$I35,TechNumber,2,FALSE))","v":""},"",null,null,null,{"$f":"IF(ISERROR(VLOOKUP('Input Sheet'!$N35,TechNumber,2,FALSE)),\"\",VLOOKUP('Input Sheet'!$N35,TechNumber,2,FALSE))","v":""}," ",null,null,null,{"$f":"IF(ISERROR(VLOOKUP('Input Sheet'!$S35,TechNumber,2,FALSE)),\"\",VLOOKUP('Input Sheet'!$S35,TechNumber,2,FALSE))","v":""},"",0]
[null,31,null,null,null,null,null,null,null,{"$f":"IF(ISERROR(VLOOKUP('Input Sheet'!$I36,TechNumber,2,FALSE)),\"\",VLOOKUP('Input Sheet'!$I36,TechNumber,2,FALSE))","v":""},"",null,null,null,{"$f":"IF(ISERROR(VLOOKUP('Input Sheet'!$N36,TechNumber,2,FALSE)),\"\",VLOOKUP('Input Sheet'!$N36,TechNumber,2,FALSE))","v":""}," ",null,null,null,{"$f":"IF(ISERROR(VLOOKUP('Input Sheet'!$S36,TechNumber,2,FALSE)),\"\",VLOOKUP('Input Sheet'!$S36,TechNumber,2,FALSE))","v":""},"",0]
[null,32,null,null,null,null,null,null,null,{"$f":"IF(ISERROR(VLOOKUP('Input Sheet'!$I37,TechNumber,2,FALSE)),\"\",VLOOKUP('Input Sheet'!$I37,TechNumber,2,FALSE))","v":""},"",null,null,null,{"$f":"IF(ISERROR(VLOOKUP('Input Sheet'!$N37,TechNumber,2,FALSE)),\"\",VLOOKUP('Input Sheet'!$N37,TechNumber,2,FALSE))","v":""}," ",null,null,null,{"$f":"IF(ISERROR(VLOOKUP('Input Sheet'!$S37,TechNumber,2,FALSE)),\"\",VLOOKUP('Input Sheet'!$S37,TechNumber,2,FALSE))","v":""},"",0]
[null,33,null,null,null,null,null,null,null,{"$f":"IF(ISERROR(VLOOKUP('Input Sheet'!$I38,TechNumber,2,FALSE)),\"\",VLOOKUP('Input Sheet'!$I38,TechNumber,2,FALSE))","v":""},"",null,null,null,{"$f":"IF(ISERROR(VLOOKUP('Input Sheet'!$N38,TechNumber,2,FALSE)),\"\",VLOOKUP('Input Sheet'!$N38,TechNumber,2,FALSE))","v":""}," ",null,null,null,{"$f":"IF(ISERROR(VLOOKUP('Input Sheet'!$S38,TechNumber,2,FALSE)),\"\",VLOOKUP('Input Sheet'!$S38,TechNumber,2,FALSE))","v":""},"",0]
[null,34,null,null,null,null,null,null,null,{"$f":"IF(ISERROR(VLOOKUP('Input Sheet'!$I39,TechNumber,2,FALSE)),\"\",VLOOKUP('Input Sheet'!$I39,TechNumber,2,FALSE))","v":""},"",null,null,null,{"$f":"IF(ISERROR(VLOOKUP('Input Sheet'!$N39,TechNumber,2,FALSE)),\"\",VLOOKUP('Input Sheet'!$N39,TechNumber,2,FALSE))","v":""}," ",null,null,null,{"$f":"IF(ISERROR(VLOOKUP('Input Sheet'!$S39,TechNumber,2,FALSE)),\"\",VLOOKUP('Input Sheet'!$S39,TechNumber,2,FALSE))","v":""},"",0]
[null,35,null,null,null,null,null,null,null,{"$f":"IF(ISERROR(VLOOKUP('Input Sheet'!$I40,TechNumber,2,FALSE)),\"\",VLOOKUP('Input Sheet'!$I40,TechNumber,2,FALSE))","v":""},"",null,null,null,{"$f":"IF(ISERROR(VLOOKUP('Input Sheet'!$N40,TechNumber,2,FALSE)),\"\",VLOOKUP('Input Sheet'!$N40,TechNumber,2,FALSE))","v":""}," ",null,null,null,{"$f":"IF(ISERROR(VLOOKUP('Input Sheet'!$S40,TechNumber,2,FALSE)),\"\",VLOOKUP('Input Sheet'!$S40,TechNumber,2,FALSE))","v":""},"",0]
[null,36,null,null,null,null,null,null,null,{"$f":"IF(ISERROR(VLOOKUP('Input Sheet'!$I41,TechNumber,2,FALSE)),\"\",VLOOKUP('Input Sheet'!$I41,TechNumber,2,FALSE))","v":""},"",null,null,null,{"$f":"IF(ISERROR(VLOOKUP('Input Sheet'!$N41,TechNumber,2,FALSE)),\"\",VLOOKUP('Input Sheet'!$N41,TechNumber,2,FALSE))","v":""}," ",null,null,null,{"$f":"IF(ISERROR(VLOOKUP('Input Sheet'!$S41,TechNumber,2,FALSE)),\"\",VLOOKUP('Input Sheet'!$S41,TechNumber,2,FALSE))","v":""},"",0]
[null,37,null,null,null,null,null,null,null,{"$f":"IF(ISERROR(VLOOKUP('Input Sheet'!$I42,TechNumber,2,FALSE)),\"\",VLOOKUP('Input Sheet'!$I42,TechNumber,2,FALSE))","v":""},"",null,null,null,{"$f":"IF(ISERROR(VLOOKUP('Input Sheet'!$N42,TechNumber,2,FALSE)),\"\",VLOOKUP('Input Sheet'!$N42,TechNumber,2,FALSE))","v":""}," ",null,null,null,{"$f":"IF(ISERROR(VLOOKUP('Input Sheet'!$S42,TechNumber,2,FALSE)),\"\",VLOOKUP('Input Sheet'!$S42,TechNumber,2,FALSE))","v":""},"",0]
[null,38,null,null,null,null,null,null,null,{"$f":"IF(ISERROR(VLOOKUP('Input Sheet'!$I43,TechNumber,2,FALSE)),\"\",VLOOKUP('Input Sheet'!$I43,TechNumber,2,FALSE))","v":""},"",null,null,null,{"$f":"IF(ISERROR(VLOOKUP('Input Sheet'!$N43,TechNumber,2,FALSE)),\"\",VLOOKUP('Input Sheet'!$N43,TechNumber,2,FALSE))","v":""}," ",null,null,null,{"$f":"IF(ISERROR(VLOOKUP('Input Sheet'!$S43,TechNumber,2,FALSE)),\"\",VLOOKUP('Input Sheet'!$S43,TechNumber,2,FALSE))","v":""},"",0]
[null,39,null,null,null,null,null,null,null,{"$f":"IF(ISERROR(VLOOKUP('Input Sheet'!$I44,TechNumber,2,FALSE)),\"\",VLOOKUP('Input Sheet'!$I44,TechNumber,2,FALSE))","v":""},"",null,null,null,{"$f":"IF(ISERROR(VLOOKUP('Input Sheet'!$N44,TechNumber,2,FALSE)),\"\",VLOOKUP('Input Sheet'!$N44,TechNumber,2,FALSE))","v":""}," ",null,null,null,{"$f":"IF(ISERROR(VLOOKUP('Input Sheet'!$S44,TechNumber,2,FALSE)),\"\",VLOOKUP('Input Sheet'!$S44,TechNumber,2,FALSE))","v":""},"",0]
[null,40,null,null,null,null,null,null,null,{"$f":"IF(ISERROR(VLOOKUP('Input Sheet'!$I45,TechNumber,2,FALSE)),\"\",VLOOKUP('Input Sheet'!$I45,TechNumber,2,FALSE))","v":""},"",null,null,null,{"$f":"IF(ISERROR(VLOOKUP('Input Sheet'!$N45,TechNumber,2,FALSE)),\"\",VLOOKUP('Input Sheet'!$N45,TechNumber,2,FALSE))","v":""}," ",null,null,null,{"$f":"IF(ISERROR(VLOOKUP('Input Sheet'!$S45,TechNumber,2,FALSE)),\"\",VLOOKUP('Input Sheet'!$S45,TechNumber,2,FALSE))","v":""},"",0]
[null,41,null,null,null,null,null,null,null,{"$f":"IF(ISERROR(VLOOKUP('Input Sheet'!$I46,TechNumber,2,FALSE)),\"\",VLOOKUP('Input Sheet'!$I46,TechNumber,2,FALSE))","v":""},"",null,null,null,{"$f":"IF(ISERROR(VLOOKUP('Input Sheet'!$N46,TechNumber,2,FALSE)),\"\",VLOOKUP('Input Sheet'!$N46,TechNumber,2,FALSE))","v":""}," ",null,null,null,{"$f":"IF(ISERROR(VLOOKUP('Input Sheet'!$S46,TechNumber,2,FALSE)),\"\",VLOOKUP('Input Sheet'!$S46,TechNumber,2,FALSE))","v":""},"",0]
[null,42,null,null,null,null,null,null,null,{"$f":"IF(ISERROR(VLOOKUP('Input Sheet'!$I47,TechNumber,2,FALSE)),\"\",VLOOKUP('Input Sheet'!$I47,TechNumber,2,FALSE))","v":""},"",null,null,null,{"$f":"IF(ISERROR(VLOOKUP('Input Sheet'!$N47,TechNumber,2,FALSE)),\"\",VLOOKUP('Input Sheet'!$N47,TechNumber,2,FALSE))","v":""}," ",null,null,null,{"$f":"IF(ISERROR(VLOOKUP('Input Sheet'!$S47,TechNumber,2,FALSE)),\"\",VLOOKUP('Input Sheet'!$S47,TechNumber,2,FALSE))","v":""},"",0]
[null,43,null,null,null,null,null,null,null,{"$f":"IF(ISERROR(VLOOKUP('Input Sheet'!$I48,TechNumber,2,FALSE)),\"\",VLOOKUP('Input Sheet'!$I48,TechNumber,2,FALSE))","v":""},"",null,null,null,{"$f":"IF(ISERROR(VLOOKUP('Input Sheet'!$N48,TechNumber,2,FALSE)),\"\",VLOOKUP('Input Sheet'!$N48,TechNumber,2,FALSE))","v":""}," ",null,null,null,{"$f":"IF(ISERROR(VLOOKUP('Input Sheet'!$S48,TechNumber,2,FALSE)),\"\",VLOOKUP('Input Sheet'!$S48,TechNumber,2,FALSE))","v":""},"",0]
[null,44,null,null,null,null,null,null,null,{"$f":"IF(ISERROR(VLOOKUP('Input Sheet'!$I49,TechNumber,2,FALSE)),\"\",VLOOKUP('Input Sheet'!$I49,TechNumber,2,FALSE))","v":""},"",null,null,null,{"$f":"IF(ISERROR(VLOOKUP('Input Sheet'!$N49,TechNumber,2,FALSE)),\"\",VLOOKUP('Input Sheet'!$N49,TechNumber,2,FALSE))","v":""}," ",null,null,null,{"$f":"IF(ISERROR(VLOOKUP('Input Sheet'!$S49,TechNumber,2,FALSE)),\"\",VLOOKUP('Input Sheet'!$S49,TechNumber,2,FALSE))","v":""},"",0]
[null,45,null,null,null,null,null,null,null,{"$f":"IF(ISERROR(VLOOKUP('Input Sheet'!$I50,TechNumber,2,FALSE)),\"\",VLOOKUP('Input Sheet'!$I50,TechNumber,2,FALSE))","v":""},"",null,null,null,{"$f":"IF(ISERROR(VLOOKUP('Input Sheet'!$N50,TechNumber,2,FALSE)),\"\",VLOOKUP('Input Sheet'!$N50,TechNumber,2,FALSE))","v":""}," ",null,null,null,{"$f":"IF(ISERROR(VLOOKUP('Input Sheet'!$S50,TechNumber,2,FALSE)),\"\",VLOOKUP('Input Sheet'!$S50,TechNumber,2,FALSE))","v":""},"",0]
[null,46,null,null,null,null,null,null,null,{"$f":"IF(ISERROR(VLOOKUP('Input Sheet'!$I51,TechNumber,2,FALSE)),\"\",VLOOKUP('Input Sheet'!$I51,TechNumber,2,FALSE))","v":""},"",null,null,null,{"$f":"IF(ISERROR(VLOOKUP('Input Sheet'!$N51,TechNumber,2,FALSE)),\"\",VLOOKUP('Input Sheet'!$N51,TechNumber,2,FALSE))","v":""}," ",null,null,null,{"$f":"IF(ISERROR(VLOOKUP('Input Sheet'!$S51,TechNumber,2,FALSE)),\"\",VLOOKUP('Input Sheet'!$S51,TechNumber,2,FALSE))","v":""},"",0]
[null,47,null,null,null,null,null,null,null,{"$f":"IF(ISERROR(VLOOKUP('Input Sheet'!$I52,TechNumber,2,FALSE)),\"\",VLOOKUP('Input Sheet'!$I52,TechNumber,2,FALSE))","v":""},"",null,null,null,{"$f":"IF(ISERROR(VLOOKUP('Input Sheet'!$N52,TechNumber,2,FALSE)),\"\",VLOOKUP('Input Sheet'!$N52,TechNumber,2,FALSE))","v":""}," ",null,null,null,{"$f":"IF(ISERROR(VLOOKUP('Input Sheet'!$S52,TechNumber,2,FALSE)),\"\",VLOOKUP('Input Sheet'!$S52,TechNumber,2,FALSE))","v":""},"",0]
[null,48,null,null,null,null,null,null,null,{"$f":"IF(ISERROR(VLOOKUP('Input Sheet'!$I53,TechNumber,2,FALSE)),\"\",VLOOKUP('Input Sheet'!$I53,TechNumber,2,FALSE))","v":""},"",null,null,null,{"$f":"IF(ISERROR(VLOOKUP('Input Sheet'!$N53,TechNumber,2,FALSE)),\"\",VLOOKUP('Input Sheet'!$N53,TechNumber,2,FALSE))","v":""}," ",null,null,null,{"$f":"IF(ISERROR(VLOOKUP('Input Sheet'!$S53,TechNumber,2,FALSE)),\"\",VLOOKUP('Input Sheet'!$S53,TechNumber,2,FALSE))","v":""},"",0]
[null,49,null,null,null,null,null,null,null,{"$f":"IF(ISERROR(VLOOKUP('Input Sheet'!$I54,TechNumber,2,FALSE)),\"\",VLOOKUP('Input Sheet'!$I54,TechNumber,2,FALSE))","v":""},"",null,null,null,{"$f":"IF(ISERROR(VLOOKUP('Input Sheet'!$N54,TechNumber,2,FALSE)),\"\",VLOOKUP('Input Sheet'!$N54,TechNumber,2,FALSE))","v":""}," ",null,null,null,{"$f":"IF(ISERROR(VLOOKUP('Input Sheet'!$S54,TechNumber,2,FALSE)),\"\",VLOOKUP('Input Sheet'!$S54,TechNumber,2,FALSE))","v":""},"",0]
[null,50,null,null,null,null,null,null,null,{"$f":"IF(ISERROR(VLOOKUP('Input Sheet'!$I55,TechNumber,2,FALSE)),\"\",VLOOKUP('Input Sheet'!$I55,TechNumber,2,FALSE))","v":""},"",null,null,null,{"$f":"IF(ISERROR(VLOOKUP('Input Sheet'!$N55,TechNumber,2,FALSE)),\"\",VLOOKUP('Input Sheet'!$N55,TechNumber,2,FALSE))","v":""}," ",null,null,null,{"$f":"IF(ISERROR(VLOOKUP('Input Sheet'!$S55,TechNumber,2,FALSE)),\"\",VLOOKUP('Input Sheet'!$S55,TechNumber,2,FALSE))","v":""},"",0]
[null,51,null,null,null,null,null,null,null,{"$f":"IF(ISERROR(VLOOKUP('Input Sheet'!$I56,TechNumber,2,FALSE)),\"\",VLOOKUP('Input Sheet'!$I56,TechNumber,2,FALSE))","v":""},"",null,null,null,{"$f":"IF(ISERROR(VLOOKUP('Input Sheet'!$N56,TechNumber,2,FALSE)),\"\",VLOOKUP('Input Sheet'!$N56,TechNumber,2,FALSE))","v":""}," ",null,null,null,{"$f":"IF(ISERROR(VLOOKUP('Input Sheet'!$S56,TechNumber,2,FALSE)),\"\",VLOOKUP('Input Sheet'!$S56,TechNumber,2,FALSE))","v":""},"",0]
[null,52,null,null,null,null,null,null,null,{"$f":"IF(ISERROR(VLOOKUP('Input Sheet'!$I57,TechNumber,2,FALSE)),\"\",VLOOKUP('Input Sheet'!$I57,TechNumber,2,FALSE))","v":""},"",null,null,null,{"$f":"IF(ISERROR(VLOOKUP('Input Sheet'!$N57,TechNumber,2,FALSE)),\"\",VLOOKUP('Input Sheet'!$N57,TechNumber,2,FALSE))","v":""}," ",null,null,null,{"$f":"IF(ISERROR(VLOOKUP('Input Sheet'!$S57,TechNumber,2,FALSE)),\"\",VLOOKUP('Input Sheet'!$S57,TechNumber,2,FALSE))","v":""},"",0]
[null,53,null,null,null,null,null,null,null,{"$f":"IF(ISERROR(VLOOKUP('Input Sheet'!$I58,TechNumber,2,FALSE)),\"\",VLOOKUP('Input Sheet'!$I58,TechNumber,2,FALSE))","v":""},"",null,null,null,{"$f":"IF(ISERROR(VLOOKUP('Input Sheet'!$N58,TechNumber,2,FALSE)),\"\",VLOOKUP('Input Sheet'!$N58,TechNumber,2,FALSE))","v":""}," ",null,null,null,{"$f":"IF(ISERROR(VLOOKUP('Input Sheet'!$S58,TechNumber,2,FALSE)),\"\",VLOOKUP('Input Sheet'!$S58,TechNumber,2,FALSE))","v":""},"",0]
[null,54,null,null,null,null,null,null,null,{"$f":"IF(ISERROR(VLOOKUP('Input Sheet'!$I59,TechNumber,2,FALSE)),\"\",VLOOKUP('Input Sheet'!$I59,TechNumber,2,FALSE))","v":""},"",null,null,null,{"$f":"IF(ISERROR(VLOOKUP('Input Sheet'!$N59,TechNumber,2,FALSE)),\"\",VLOOKUP('Input Sheet'!$N59,TechNumber,2,FALSE))","v":""}," ",null,null,null,{"$f":"IF(ISERROR(VLOOKUP('Input Sheet'!$S59,TechNumber,2,FALSE)),\"\",VLOOKUP('Input Sheet'!$S59,TechNumber,2,FALSE))","v":""},"",0]
[null,55,null,null,null,null,null,null,null,{"$f":"IF(ISERROR(VLOOKUP('Input Sheet'!$I60,TechNumber,2,FALSE)),\"\",VLOOKUP('Input Sheet'!$I60,TechNumber,2,FALSE))","v":""},"",null,null,null,{"$f":"IF(ISERROR(VLOOKUP('Input Sheet'!$N60,TechNumber,2,FALSE)),\"\",VLOOKUP('Input Sheet'!$N60,TechNumber,2,FALSE))","v":""}," ",null,null,null,{"$f":"IF(ISERROR(VLOOKUP('Input Sheet'!$S60,TechNumber,2,FALSE)),\"\",VLOOKUP('Input Sheet'!$S60,TechNumber,2,FALSE))","v":""},"",0]
[null,56,null,null,null,null,null,null,null,{"$f":"IF(ISERROR(VLOOKUP('Input Sheet'!$I61,TechNumber,2,FALSE)),\"\",VLOOKUP('Input Sheet'!$I61,TechNumber,2,FALSE))","v":""},"",null,null,null,{"$f":"IF(ISERROR(VLOOKUP('Input Sheet'!$N61,TechNumber,2,FALSE)),\"\",VLOOKUP('Input Sheet'!$N61,TechNumber,2,FALSE))","v":""}," ",null,null,null,{"$f":"IF(ISERROR(VLOOKUP('Input Sheet'!$S61,TechNumber,2,FALSE)),\"\",VLOOKUP('Input Sheet'!$S61,TechNumber,2,FALSE))","v":""},"",0]
[null,57,null,null,null,null,null,null,null,{"$f":"IF(ISERROR(VLOOKUP('Input Sheet'!$I62,TechNumber,2,FALSE)),\"\",VLOOKUP('Input Sheet'!$I62,TechNumber,2,FALSE))","v":""},"",null,null,null,{"$f":"IF(ISERROR(VLOOKUP('Input Sheet'!$N62,TechNumber,2,FALSE)),\"\",VLOOKUP('Input Sheet'!$N62,TechNumber,2,FALSE))","v":""}," ",null,null,null,{"$f":"IF(ISERROR(VLOOKUP('Input Sheet'!$S62,TechNumber,2,FALSE)),\"\",VLOOKUP('Input Sheet'!$S62,TechNumber,2,FALSE))","v":""},"",0]
[null,58,null,null,null,null,null,null,null,{"$f":"IF(ISERROR(VLOOKUP('Input Sheet'!$I63,TechNumber,2,FALSE)),\"\",VLOOKUP('Input Sheet'!$I63,TechNumber,2,FALSE))","v":""},"",null,null,null,{"$f":"IF(ISERROR(VLOOKUP('Input Sheet'!$N63,TechNumber,2,FALSE)),\"\",VLOOKUP('Input Sheet'!$N63,TechNumber,2,FALSE))","v":""}," ",null,null,null,{"$f":"IF(ISERROR(VLOOKUP('Input Sheet'!$S63,TechNumber,2,FALSE)),\"\",VLOOKUP('Input Sheet'!$S63,TechNumber,2,FALSE))","v":""},"",0]
[null,59,null,null,null,null,null,null,null,{"$f":"IF(ISERROR(VLOOKUP('Input Sheet'!$I64,TechNumber,2,FALSE)),\"\",VLOOKUP('Input Sheet'!$I64,TechNumber,2,FALSE))","v":""},"",null,null,null,{"$f":"IF(ISERROR(VLOOKUP('Input Sheet'!$N64,TechNumber,2,FALSE)),\"\",VLOOKUP('Input Sheet'!$N64,TechNumber,2,FALSE))","v":""}," ",null,null,null,{"$f":"IF(ISERROR(VLOOKUP('Input Sheet'!$S64,TechNumber,2,FALSE)),\"\",VLOOKUP('Input Sheet'!$S64,TechNumber,2,FALSE))","v":""},"",0]
[null,60,null,null,null,null,null,null,null,{"$f":"IF(ISERROR(VLOOKUP('Input Sheet'!$I65,TechNumber,2,FALSE)),\"\",VLOOKUP('Input Sheet'!$I65,TechNumber,2,FALSE))","v":""},"",null,null,null,{"$f":"IF(ISERROR(VLOOKUP('Input Sheet'!$N65,TechNumber,2,FALSE)),\"\",VLOOKUP('Input Sheet'!$N65,TechNumber,2,FALSE))","v":""}," ",null,null,null,{"$f":"IF(ISERROR(VLOOKUP('Input Sheet'!$S65,TechNumber,2,FALSE)),\"\",VLOOKUP('Input Sheet'!$S65,TechNumber,2,FALSE))","v":""},"",0]
[null,61,null,null,null,null,null,null,null,{"$f":"IF(ISERROR(VLOOKUP('Input Sheet'!$I66,TechNumber,2,FALSE)),\"\",VLOOKUP('Input Sheet'!$I66,TechNumber,2,FALSE))","v":""},"",null,null,null,{"$f":"IF(ISERROR(VLOOKUP('Input Sheet'!$N66,TechNumber,2,FALSE)),\"\",VLOOKUP('Input Sheet'!$N66,TechNumber,2,FALSE))","v":""}," ",null,null,null,{"$f":"IF(ISERROR(VLOOKUP('Input Sheet'!$S66,TechNumber,2,FALSE)),\"\",VLOOKUP('Input Sheet'!$S66,TechNumber,2,FALSE))","v":""},"",0]
[null,62,null,null,null,null,null,null,null,{"$f":"IF(ISERROR(VLOOKUP('Input Sheet'!$I67,TechNumber,2,FALSE)),\"\",VLOOKUP('Input Sheet'!$I67,TechNumber,2,FALSE))","v":""},"",null,null,null,{"$f":"IF(ISERROR(VLOOKUP('Input Sheet'!$N67,TechNumber,2,FALSE)),\"\",VLOOKUP('Input Sheet'!$N67,TechNumber,2,FALSE))","v":""}," ",null,null,null,{"$f":"IF(ISERROR(VLOOKUP('Input Sheet'!$S67,TechNumber,2,FALSE)),\"\",VLOOKUP('Input Sheet'!$S67,TechNumber,2,FALSE))","v":""},"",0]
[null,63,null,null,null,null,null,null,null,{"$f":"IF(ISERROR(VLOOKUP('Input Sheet'!$I68,TechNumber,2,FALSE)),\"\",VLOOKUP('Input Sheet'!$I68,TechNumber,2,FALSE))","v":""},"",null,null,null,{"$f":"IF(ISERROR(VLOOKUP('Input Sheet'!$N68,TechNumber,2,FALSE)),\"\",VLOOKUP('Input Sheet'!$N68,TechNumber,2,FALSE))","v":""}," ",null,null,null,{"$f":"IF(ISERROR(VLOOKUP('Input Sheet'!$S68,TechNumber,2,FALSE)),\"\",VLOOKUP('Input Sheet'!$S68,TechNumber,2,FALSE))","v":""},"",0]
[null,64,null,null,null,null,null,null,null,{"$f":"IF(ISERROR(VLOOKUP('Input Sheet'!$I69,TechNumber,2,FALSE)),\"\",VLOOKUP('Input Sheet'!$I69,TechNumber,2,FALSE))","v":""},"",null,null,null,{"$f":"IF(ISERROR(VLOOKUP('Input Sheet'!$N69,TechNumber,2,FALSE)),\"\",VLOOKUP('Input Sheet'!$N69,TechNumber,2,FALSE))","v":""}," ",null,null,null,{"$f":"IF(ISERROR(VLOOKUP('Input Sheet'!$S69,TechNumber,2,FALSE)),\"\",VLOOKUP('Input Sheet'!$S69,TechNumber,2,FALSE))","v":""},"",0]
[null,65,null,null,null,null,null,null,null,{"$f":"IF(ISERROR(VLOOKUP('Input Sheet'!$I70,TechNumber,2,FALSE)),\"\",VLOOKUP('Input Sheet'!$I70,TechNumber,2,FALSE))","v":""},{"$f":"IF(ISERROR(H70*J70),\"\",H70*J70)","v":""},null,null,null,{"$f":"IF(ISERROR(VLOOKUP('Input Sheet'!$N70,TechNumber,2,FALSE)),\"\",VLOOKUP('Input Sheet'!$N70,TechNumber,2,FALSE))","v":""},{"$f":"IF(ISERROR(M70*O70),\" \",M70*O70)","v":" "},null,null,null,{"$f":"IF(ISERROR(VLOOKUP('Input Sheet'!$S70,TechNumber,2,FALSE)),\"\",VLOOKUP('Input Sheet'!$S70,TechNumber,2,FALSE))","v":""},{"$f":"IF(ISERROR(R70*T70),\"\",R70*T70)","v":""},0]
[null,66,null,null,null,null,null,null,null,{"$f":"IF(ISERROR(VLOOKUP('Input Sheet'!$I71,TechNumber,2,FALSE)),\"\",VLOOKUP('Input Sheet'!$I71,TechNumber,2,FALSE))","v":""},"",null,null,null,{"$f":"IF(ISERROR(VLOOKUP('Input Sheet'!$N71,TechNumber,2,FALSE)),\"\",VLOOKUP('Input Sheet'!$N71,TechNumber,2,FALSE))","v":""}," ",null,null,null,{"$f":"IF(ISERROR(VLOOKUP('Input Sheet'!$S71,TechNumber,2,FALSE)),\"\",VLOOKUP('Input Sheet'!$S71,TechNumber,2,FALSE))","v":""},"",{"$f":"SUM(U71,P71,K71)","v":0}]
[null,67,null,null,null,null,null,null,null,{"$f":"IF(ISERROR(VLOOKUP('Input Sheet'!$I72,TechNumber,2,FALSE)),\"\",VLOOKUP('Input Sheet'!$I72,TechNumber,2,FALSE))","v":""},"",null,null,null,{"$f":"IF(ISERROR(VLOOKUP('Input Sheet'!$N72,TechNumber,2,FALSE)),\"\",VLOOKUP('Input Sheet'!$N72,TechNumber,2,FALSE))","v":""}," ",null,null,null,{"$f":"IF(ISERROR(VLOOKUP('Input Sheet'!$S72,TechNumber,2,FALSE)),\"\",VLOOKUP('Input Sheet'!$S72,TechNumber,2,FALSE))","v":""},"",0]
[null,68,null,null,null,null,null,null,null,{"$f":"IF(ISERROR(VLOOKUP('Input Sheet'!$I73,TechNumber,2,FALSE)),\"\",VLOOKUP('Input Sheet'!$I73,TechNumber,2,FALSE))","v":""},"",null,null,null,{"$f":"IF(ISERROR(VLOOKUP('Input Sheet'!$N73,TechNumber,2,FALSE)),\"\",VLOOKUP('Input Sheet'!$N73,TechNumber,2,FALSE))","v":""}," ",null,null,null,{"$f":"IF(ISERROR(VLOOKUP('Input Sheet'!$S73,TechNumber,2,FALSE)),\"\",VLOOKUP('Input Sheet'!$S73,TechNumber,2,FALSE))","v":""},"",0]
[null,69,null,null,null,null,null,null,null,{"$f":"IF(ISERROR(VLOOKUP('Input Sheet'!$I74,TechNumber,2,FALSE)),\"\",VLOOKUP('Input Sheet'!$I74,TechNumber,2,FALSE))","v":""},"",null,null,null,{"$f":"IF(ISERROR(VLOOKUP('Input Sheet'!$N74,TechNumber,2,FALSE)),\"\",VLOOKUP('Input Sheet'!$N74,TechNumber,2,FALSE))","v":""}," ",null,null,null,{"$f":"IF(ISERROR(VLOOKUP('Input Sheet'!$S74,TechNumber,2,FALSE)),\"\",VLOOKUP('Input Sheet'!$S74,TechNumber,2,FALSE))","v":""},"",0]
[null,70,null,null,null,null,null,null,null,{"$f":"IF(ISERROR(VLOOKUP('Input Sheet'!$I75,TechNumber,2,FALSE)),\"\",VLOOKUP('Input Sheet'!$I75,TechNumber,2,FALSE))","v":""},"",null,null,null,{"$f":"IF(ISERROR(VLOOKUP('Input Sheet'!$N75,TechNumber,2,FALSE)),\"\",VLOOKUP('Input Sheet'!$N75,TechNumber,2,FALSE))","v":""}," ",null,null,null,{"$f":"IF(ISERROR(VLOOKUP('Input Sheet'!$S75,TechNumber,2,FALSE)),\"\",VLOOKUP('Input Sheet'!$S75,TechNumber,2,FALSE))","v":""},"",0]
[null,71,null,null,null,null,null,null,null,{"$f":"IF(ISERROR(VLOOKUP('Input Sheet'!$I76,TechNumber,2,FALSE)),\"\",VLOOKUP('Input Sheet'!$I76,TechNumber,2,FALSE))","v":""},"",null,null,null,{"$f":"IF(ISERROR(VLOOKUP('Input Sheet'!$N76,TechNumber,2,FALSE)),\"\",VLOOKUP('Input Sheet'!$N76,TechNumber,2,FALSE))","v":""}," ",null,null,null,{"$f":"IF(ISERROR(VLOOKUP('Input Sheet'!$S76,TechNumber,2,FALSE)),\"\",VLOOKUP('Input Sheet'!$S76,TechNumber,2,FALSE))","v":""},"",0]
[null,72,null,null,null,null,null,null,null,{"$f":"IF(ISERROR(VLOOKUP('Input Sheet'!$I77,TechNumber,2,FALSE)),\"\",VLOOKUP('Input Sheet'!$I77,TechNumber,2,FALSE))","v":""},"",null,null,null,{"$f":"IF(ISERROR(VLOOKUP('Input Sheet'!$N77,TechNumber,2,FALSE)),\"\",VLOOKUP('Input Sheet'!$N77,TechNumber,2,FALSE))","v":""}," ",null,null,null,{"$f":"IF(ISERROR(VLOOKUP('Input Sheet'!$S77,TechNumber,2,FALSE)),\"\",VLOOKUP('Input Sheet'!$S77,TechNumber,2,FALSE))","v":""},"",0]
[null,73,null,null,null,null,null,null,null,{"$f":"IF(ISERROR(VLOOKUP('Input Sheet'!$I78,TechNumber,2,FALSE)),\"\",VLOOKUP('Input Sheet'!$I78,TechNumber,2,FALSE))","v":""},"",null,null,null,{"$f":"IF(ISERROR(VLOOKUP('Input Sheet'!$N78,TechNumber,2,FALSE)),\"\",VLOOKUP('Input Sheet'!$N78,TechNumber,2,FALSE))","v":""}," ",null,null,null,{"$f":"IF(ISERROR(VLOOKUP('Input Sheet'!$S78,TechNumber,2,FALSE)),\"\",VLOOKUP('Input Sheet'!$S78,TechNumber,2,FALSE))","v":""},"",0]
[null,74,null,null,null,null,null,null,null,{"$f":"IF(ISERROR(VLOOKUP('Input Sheet'!$I79,TechNumber,2,FALSE)),\"\",VLOOKUP('Input Sheet'!$I79,TechNumber,2,FALSE))","v":""},"",null,null,null,{"$f":"IF(ISERROR(VLOOKUP('Input Sheet'!$N79,TechNumber,2,FALSE)),\"\",VLOOKUP('Input Sheet'!$N79,TechNumber,2,FALSE))","v":""}," ",null,null,null,{"$f":"IF(ISERROR(VLOOKUP('Input Sheet'!$S79,TechNumber,2,FALSE)),\"\",VLOOKUP('Input Sheet'!$S79,TechNumber,2,FALSE))","v":""},"",0]
[null,75,null,null,null,null,null,null,null,{"$f":"IF(ISERROR(VLOOKUP('Input Sheet'!$I80,TechNumber,2,FALSE)),\"\",VLOOKUP('Input Sheet'!$I80,TechNumber,2,FALSE))","v":""},"",null,null,null,{"$f":"IF(ISERROR(VLOOKUP('Input Sheet'!$N80,TechNumber,2,FALSE)),\"\",VLOOKUP('Input Sheet'!$N80,TechNumber,2,FALSE))","v":""}," ",null,null,null,{"$f":"IF(ISERROR(VLOOKUP('Input Sheet'!$S80,TechNumber,2,FALSE)),\"\",VLOOKUP('Input Sheet'!$S80,TechNumber,2,FALSE))","v":""},"",0]
[null,76,null,null,null,null,null,null,null,{"$f":"IF(ISERROR(VLOOKUP('Input Sheet'!$I81,TechNumber,2,FALSE)),\"\",VLOOKUP('Input Sheet'!$I81,TechNumber,2,FALSE))","v":""},"",null,null,null,{"$f":"IF(ISERROR(VLOOKUP('Input Sheet'!$N81,TechNumber,2,FALSE)),\"\",VLOOKUP('Input Sheet'!$N81,TechNumber,2,FALSE))","v":""}," ",null,null,null,{"$f":"IF(ISERROR(VLOOKUP('Input Sheet'!$S81,TechNumber,2,FALSE)),\"\",VLOOKUP('Input Sheet'!$S81,TechNumber,2,FALSE))","v":""},"",0]
[null,77,null,null,null,null,null,null,null,{"$f":"IF(ISERROR(VLOOKUP('Input Sheet'!$I82,TechNumber,2,FALSE)),\"\",VLOOKUP('Input Sheet'!$I82,TechNumber,2,FALSE))","v":""},"",null,null,null,{"$f":"IF(ISERROR(VLOOKUP('Input Sheet'!$N82,TechNumber,2,FALSE)),\"\",VLOOKUP('Input Sheet'!$N82,TechNumber,2,FALSE))","v":""}," ",null,null,null,{"$f":"IF(ISERROR(VLOOKUP('Input Sheet'!$S82,TechNumber,2,FALSE)),\"\",VLOOKUP('Input Sheet'!$S82,TechNumber,2,FALSE))","v":""},"",0]
[null,78,null,null,null,null,null,null,null,{"$f":"IF(ISERROR(VLOOKUP('Input Sheet'!$I83,TechNumber,2,FALSE)),\"\",VLOOKUP('Input Sheet'!$I83,TechNumber,2,FALSE))","v":""},"",null,null,null,{"$f":"IF(ISERROR(VLOOKUP('Input Sheet'!$N83,TechNumber,2,FALSE)),\"\",VLOOKUP('Input Sheet'!$N83,TechNumber,2,FALSE))","v":""}," ",null,null,null,{"$f":"IF(ISERROR(VLOOKUP('Input Sheet'!$S83,TechNumber,2,FALSE)),\"\",VLOOKUP('Input Sheet'!$S83,TechNumber,2,FALSE))","v":""},"",0]
[null,79,null,null,null,null,null,null,null,{"$f":"IF(ISERROR(VLOOKUP('Input Sheet'!$I84,TechNumber,2,FALSE)),\"\",VLOOKUP('Input Sheet'!$I84,TechNumber,2,FALSE))","v":""},"",null,null,null,{"$f":"IF(ISERROR(VLOOKUP('Input Sheet'!$N84,TechNumber,2,FALSE)),\"\",VLOOKUP('Input Sheet'!$N84,TechNumber,2,FALSE))","v":""}," ",null,null,null,{"$f":"IF(ISERROR(VLOOKUP('Input Sheet'!$S84,TechNumber,2,FALSE)),\"\",VLOOKUP('Input Sheet'!$S84,TechNumber,2,FALSE))","v":""},"",0]
[null,80,null,null,null,null,null,null,null,{"$f":"IF(ISERROR(VLOOKUP('Input Sheet'!$I85,TechNumber,2,FALSE)),\"\",VLOOKUP('Input Sheet'!$I85,TechNumber,2,FALSE))","v":""},"",null,null,null,{"$f":"IF(ISERROR(VLOOKUP('Input Sheet'!$N85,TechNumber,2,FALSE)),\"\",VLOOKUP('Input Sheet'!$N85,TechNumber,2,FALSE))","v":""}," ",null,null,null,{"$f":"IF(ISERROR(VLOOKUP('Input Sheet'!$S85,TechNumber,2,FALSE)),\"\",VLOOKUP('Input Sheet'!$S85,TechNumber,2,FALSE))","v":""},"",0]
[null,81,null,null,null,null,null,null,null,{"$f":"IF(ISERROR(VLOOKUP('Input Sheet'!$I86,TechNumber,2,FALSE)),\"\",VLOOKUP('Input Sheet'!$I86,TechNumber,2,FALSE))","v":""},"",null,null,null,{"$f":"IF(ISERROR(VLOOKUP('Input Sheet'!$N86,TechNumber,2,FALSE)),\"\",VLOOKUP('Input Sheet'!$N86,TechNumber,2,FALSE))","v":""}," ",null,null,null,{"$f":"IF(ISERROR(VLOOKUP('Input Sheet'!$S86,TechNumber,2,FALSE)),\"\",VLOOKUP('Input Sheet'!$S86,TechNumber,2,FALSE))","v":""},"",0]
[null,82,null,null,null,null,null,null,null,{"$f":"IF(ISERROR(VLOOKUP('Input Sheet'!$I87,TechNumber,2,FALSE)),\"\",VLOOKUP('Input Sheet'!$I87,TechNumber,2,FALSE))","v":""},"",null,null,null,{"$f":"IF(ISERROR(VLOOKUP('Input Sheet'!$N87,TechNumber,2,FALSE)),\"\",VLOOKUP('Input Sheet'!$N87,TechNumber,2,FALSE))","v":""}," ",null,null,null,{"$f":"IF(ISERROR(VLOOKUP('Input Sheet'!$S87,TechNumber,2,FALSE)),\"\",VLOOKUP('Input Sheet'!$S87,TechNumber,2,FALSE))","v":""},"",0]
[null,83,null,null,null,null,null,null,null,{"$f":"IF(ISERROR(VLOOKUP('Input Sheet'!$I88,TechNumber,2,FALSE)),\"\",VLOOKUP('Input Sheet'!$I88,TechNumber,2,FALSE))","v":""},"",null,null,null,{"$f":"IF(ISERROR(VLOOKUP('Input Sheet'!$N88,TechNumber,2,FALSE)),\"\",VLOOKUP('Input Sheet'!$N88,TechNumber,2,FALSE))","v":""}," ",null,null,null,{"$f":"IF(ISERROR(VLOOKUP('Input Sheet'!$S88,TechNumber,2,FALSE)),\"\",VLOOKUP('Input Sheet'!$S88,TechNumber,2,FALSE))","v":""},"",0]
[null,84,null,null,null,null,null,null,null,{"$f":"IF(ISERROR(VLOOKUP('Input Sheet'!$I89,TechNumber,2,FALSE)),\"\",VLOOKUP('Input Sheet'!$I89,TechNumber,2,FALSE))","v":""},"",null,null,null,{"$f":"IF(ISERROR(VLOOKUP('Input Sheet'!$N89,TechNumber,2,FALSE)),\"\",VLOOKUP('Input Sheet'!$N89,TechNumber,2,FALSE))","v":""}," ",null,null,null,{"$f":"IF(ISERROR(VLOOKUP('Input Sheet'!$S89,TechNumber,2,FALSE)),\"\",VLOOKUP('Input Sheet'!$S89,TechNumber,2,FALSE))","v":""},"",0]
[null,85,null,null,null,null,null,null,null,{"$f":"IF(ISERROR(VLOOKUP('Input Sheet'!$I90,TechNumber,2,FALSE)),\"\",VLOOKUP('Input Sheet'!$I90,TechNumber,2,FALSE))","v":""},"",null,null,null,{"$f":"IF(ISERROR(VLOOKUP('Input Sheet'!$N90,TechNumber,2,FALSE)),\"\",VLOOKUP('Input Sheet'!$N90,TechNumber,2,FALSE))","v":""}," ",null,null,null,{"$f":"IF(ISERROR(VLOOKUP('Input Sheet'!$S90,TechNumber,2,FALSE)),\"\",VLOOKUP('Input Sheet'!$S90,TechNumber,2,FALSE))","v":""},"",0]
[null,86,null,null,null,null,null,null,null,{"$f":"IF(ISERROR(VLOOKUP('Input Sheet'!$I91,TechNumber,2,FALSE)),\"\",VLOOKUP('Input Sheet'!$I91,TechNumber,2,FALSE))","v":""},"",null,null,null,{"$f":"IF(ISERROR(VLOOKUP('Input Sheet'!$N91,TechNumber,2,FALSE)),\"\",VLOOKUP('Input Sheet'!$N91,TechNumber,2,FALSE))","v":""}," ",null,null,null,{"$f":"IF(ISERROR(VLOOKUP('Input Sheet'!$S91,TechNumber,2,FALSE)),\"\",VLOOKUP('Input Sheet'!$S91,TechNumber,2,FALSE))","v":""},"",0]
[null,87,null,null,null,null,null,null,null,{"$f":"IF(ISERROR(VLOOKUP('Input Sheet'!$I92,TechNumber,2,FALSE)),\"\",VLOOKUP('Input Sheet'!$I92,TechNumber,2,FALSE))","v":""},"",null,null,null,{"$f":"IF(ISERROR(VLOOKUP('Input Sheet'!$N92,TechNumber,2,FALSE)),\"\",VLOOKUP('Input Sheet'!$N92,TechNumber,2,FALSE))","v":""}," ",null,null,null,{"$f":"IF(ISERROR(VLOOKUP('Input Sheet'!$S92,TechNumber,2,FALSE)),\"\",VLOOKUP('Input Sheet'!$S92,TechNumber,2,FALSE))","v":""},"",0]
[null,88,null,null,null,null,null,null,null,{"$f":"IF(ISERROR(VLOOKUP('Input Sheet'!$I93,TechNumber,2,FALSE)),\"\",VLOOKUP('Input Sheet'!$I93,TechNumber,2,FALSE))","v":""},"",null,null,null,{"$f":"IF(ISERROR(VLOOKUP('Input Sheet'!$N93,TechNumber,2,FALSE)),\"\",VLOOKUP('Input Sheet'!$N93,TechNumber,2,FALSE))","v":""}," ",null,null,null,{"$f":"IF(ISERROR(VLOOKUP('Input Sheet'!$S93,TechNumber,2,FALSE)),\"\",VLOOKUP('Input Sheet'!$S93,TechNumber,2,FALSE))","v":""},"",0]
[null,89,null,null,null,null,null,null,null,{"$f":"IF(ISERROR(VLOOKUP('Input Sheet'!$I94,TechNumber,2,FALSE)),\"\",VLOOKUP('Input Sheet'!$I94,TechNumber,2,FALSE))","v":""},"",null,null,null,{"$f":"IF(ISERROR(VLOOKUP('Input Sheet'!$N94,TechNumber,2,FALSE)),\"\",VLOOKUP('Input Sheet'!$N94,TechNumber,2,FALSE))","v":""}," ",null,null,null,{"$f":"IF(ISERROR(VLOOKUP('Input Sheet'!$S94,TechNumber,2,FALSE)),\"\",VLOOKUP('Input Sheet'!$S94,TechNumber,2,FALSE))","v":""},"",0]
[null,90,null,null,null,null,null,null,null,{"$f":"IF(ISERROR(VLOOKUP('Input Sheet'!$I95,TechNumber,2,FALSE)),\"\",VLOOKUP('Input Sheet'!$I95,TechNumber,2,FALSE))","v":""},"",null,null,null,{"$f":"IF(ISERROR(VLOOKUP('Input Sheet'!$N95,TechNumber,2,FALSE)),\"\",VLOOKUP('Input Sheet'!$N95,TechNumber,2,FALSE))","v":""}," ",null,null,null,{"$f":"IF(ISERROR(VLOOKUP('Input Sheet'!$S95,TechNumber,2,FALSE)),\"\",VLOOKUP('Input Sheet'!$S95,TechNumber,2,FALSE))","v":""},"",0]
[null,91,null,null,null,null,null,null,null,{"$f":"IF(ISERROR(VLOOKUP('Input Sheet'!$I96,TechNumber,2,FALSE)),\"\",VLOOKUP('Input Sheet'!$I96,TechNumber,2,FALSE))","v":""},"",null,null,null,{"$f":"IF(ISERROR(VLOOKUP('Input Sheet'!$N96,TechNumber,2,FALSE)),\"\",VLOOKUP('Input Sheet'!$N96,TechNumber,2,FALSE))","v":""}," ",null,null,null,{"$f":"IF(ISERROR(VLOOKUP('Input Sheet'!$S96,TechNumber,2,FALSE)),\"\",VLOOKUP('Input Sheet'!$S96,TechNumber,2,FALSE))","v":""},"",0]
[null,92,null,null,null,null,null,null,null,{"$f":"IF(ISERROR(VLOOKUP('Input Sheet'!$I97,TechNumber,2,FALSE)),\"\",VLOOKUP('Input Sheet'!$I97,TechNumber,2,FALSE))","v":""},"",null,null,null,{"$f":"IF(ISERROR(VLOOKUP('Input Sheet'!$N97,TechNumber,2,FALSE)),\"\",VLOOKUP('Input Sheet'!$N97,TechNumber,2,FALSE))","v":""}," ",null,null,null,{"$f":"IF(ISERROR(VLOOKUP('Input Sheet'!$S97,TechNumber,2,FALSE)),\"\",VLOOKUP('Input Sheet'!$S97,TechNumber,2,FALSE))","v":""},"",0]
[null,93,null,null,null,null,null,null,null,{"$f":"IF(ISERROR(VLOOKUP('Input Sheet'!$I98,TechNumber,2,FALSE)),\"\",VLOOKUP('Input Sheet'!$I98,TechNumber,2,FALSE))","v":""},"",null,null,null,{"$f":"IF(ISERROR(VLOOKUP('Input Sheet'!$N98,TechNumber,2,FALSE)),\"\",VLOOKUP('Input Sheet'!$N98,TechNumber,2,FALSE))","v":""}," ",null,null,null,{"$f":"IF(ISERROR(VLOOKUP('Input Sheet'!$S98,TechNumber,2,FALSE)),\"\",VLOOKUP('Input Sheet'!$S98,TechNumber,2,FALSE))","v":""},"",0]
[null,94,null,null,null,null,null,null,null,{"$f":"IF(ISERROR(VLOOKUP('Input Sheet'!$I99,TechNumber,2,FALSE)),\"\",VLOOKUP('Input Sheet'!$I99,TechNumber,2,FALSE))","v":""},"",null,null,null,{"$f":"IF(ISERROR(VLOOKUP('Input Sheet'!$N99,TechNumber,2,FALSE)),\"\",VLOOKUP('Input Sheet'!$N99,TechNumber,2,FALSE))","v":""}," ",null,null,null,{"$f":"IF(ISERROR(VLOOKUP('Input Sheet'!$S99,TechNumber,2,FALSE)),\"\",VLOOKUP('Input Sheet'!$S99,TechNumber,2,FALSE))","v":""},"",0]
[null,95,null,null,null,null,null,null,null,{"$f":"IF(ISERROR(VLOOKUP('Input Sheet'!$I100,TechNumber,2,FALSE)),\"\",VLOOKUP('Input Sheet'!$I100,TechNumber,2,FALSE))","v":""},"",null,null,null,{"$f":"IF(ISERROR(VLOOKUP('Input Sheet'!$N100,TechNumber,2,FALSE)),\"\",VLOOKUP('Input Sheet'!$N100,TechNumber,2,FALSE))","v":""}," ",null,null,null,{"$f":"IF(ISERROR(VLOOKUP('Input Sheet'!$S100,TechNumber,2,FALSE)),\"\",VLOOKUP('Input Sheet'!$S100,TechNumber,2,FALSE))","v":""},"",0]
[null,96,null,null,null,null,null,null,null,{"$f":"IF(ISERROR(VLOOKUP('Input Sheet'!$I101,TechNumber,2,FALSE)),\"\",VLOOKUP('Input Sheet'!$I101,TechNumber,2,FALSE))","v":""},"",null,null,null,{"$f":"IF(ISERROR(VLOOKUP('Input Sheet'!$N101,TechNumber,2,FALSE)),\"\",VLOOKUP('Input Sheet'!$N101,TechNumber,2,FALSE))","v":""}," ",null,null,null,{"$f":"IF(ISERROR(VLOOKUP('Input Sheet'!$S101,TechNumber,2,FALSE)),\"\",VLOOKUP('Input Sheet'!$S101,TechNumber,2,FALSE))","v":""},"",0]
[null,97,null,null,null,null,null,null,null,{"$f":"IF(ISERROR(VLOOKUP('Input Sheet'!$I102,TechNumber,2,FALSE)),\"\",VLOOKUP('Input Sheet'!$I102,TechNumber,2,FALSE))","v":""},"",null,null,null,{"$f":"IF(ISERROR(VLOOKUP('Input Sheet'!$N102,TechNumber,2,FALSE)),\"\",VLOOKUP('Input Sheet'!$N102,TechNumber,2,FALSE))","v":""}," ",null,null,null,{"$f":"IF(ISERROR(VLOOKUP('Input Sheet'!$S102,TechNumber,2,FALSE)),\"\",VLOOKUP('Input Sheet'!$S102,TechNumber,2,FALSE))","v":""},"",0]
[null,98,null,null,null,null,null,null,null,{"$f":"IF(ISERROR(VLOOKUP('Input Sheet'!$I103,TechNumber,2,FALSE)),\"\",VLOOKUP('Input Sheet'!$I103,TechNumber,2,FALSE))","v":""},"",null,null,null,{"$f":"IF(ISERROR(VLOOKUP('Input Sheet'!$N103,TechNumber,2,FALSE)),\"\",VLOOKUP('Input Sheet'!$N103,TechNumber,2,FALSE))","v":""}," ",null,null,null,{"$f":"IF(ISERROR(VLOOKUP('Input Sheet'!$S103,TechNumber,2,FALSE)),\"\",VLOOKUP('Input Sheet'!$S103,TechNumber,2,FALSE))","v":""},"",0]
[null,99,null,null,null,null,null,null,null,{"$f":"IF(ISERROR(VLOOKUP('Input Sheet'!$I104,TechNumber,2,FALSE)),\"\",VLOOKUP('Input Sheet'!$I104,TechNumber,2,FALSE))","v":""},"",null,null,null,{"$f":"IF(ISERROR(VLOOKUP('Input Sheet'!$N104,TechNumber,2,FALSE)),\"\",VLOOKUP('Input Sheet'!$N104,TechNumber,2,FALSE))","v":""}," ",null,null,null,{"$f":"IF(ISERROR(VLOOKUP('Input Sheet'!$S104,TechNumber,2,FALSE)),\"\",VLOOKUP('Input Sheet'!$S104,TechNumber,2,FALSE))","v":""},"",0]
[null,100,null,null,null,null,null,null,null,{"$f":"IF(ISERROR(VLOOKUP('Input Sheet'!$I105,TechNumber,2,FALSE)),\"\",VLOOKUP('Input Sheet'!$I105,TechNumber,2,FALSE))","v":""},{"$f":"IF(ISERROR(H105*J105),\"\",H105*J105)","v":""},null,null,null,{"$f":"IF(ISERROR(VLOOKUP('Input Sheet'!$N105,TechNumber,2,FALSE)),\"\",VLOOKUP('Input Sheet'!$N105,TechNumber,2,FALSE))","v":""},{"$f":"IF(ISERROR(M105*O105),\" \",M105*O105)","v":" "},null,null,null,{"$f":"IF(ISERROR(VLOOKUP('Input Sheet'!$S105,TechNumber,2,FALSE)),\"\",VLOOKUP('Input Sheet'!$S105,TechNumber,2,FALSE))","v":""},{"$f":"IF(ISERROR(R105*T105),\"\",R105*T105)","v":""},0]
[null,null,null,null,"Totals","Totals",{"$f":"SUM(G6:G105)","v":0},{"$f":"SUM(H6:H105)","v":0},null,null,{"$f":"SUM(K6:K105)","v":0},0,0,null,null,0,0,0,null,null,0,0,{"$f":"COUNTIF(W5:W105,1)","v":0}]
[null,null,null,null,"Number of RO's in Sample",null,"Competative Labor",null,null,null,null,"Maintenance Labor",null,null,null,null,"Repair Labor",null,null,null,null,"Total Cost of Labor","One Item Repair Order"]
[null,null,null,null,null,null,"Labor Sales","Flat Rate Hours","Technican Number","Pay Per FRH","Labor Cost ","Labor Sales","Flat Rate Hours","Technican Number","Pay Per FRH","Labor Cost ","Labor Sales","Flat Rate Hours","Technican Number","Pay Per FRH","Labor Cost "]
[]
[]
[]
[null,null,null,null,null,null,null,null,null,null,null,null,null,null,null,null,null,null,null,null,null,null," "]
[null,null,null,null,null,null,null,null,null,null,null,null,null,null,null,null,null,null,null,null,null,null," "]

{"sheet":"RO Report 1-50","index":3,"n_rows":65,"n_cols":21,"rows_kept":65,"cut":false,"hidden":false,"merged":[[1,0,1,3],[0,0,0,20],[3,7,4,7],[3,8,4,8],[3,9,4,9],[3,10,4,10],[3,0,4,0],[3,4,4,4],[3,5,4,5],[3,6,4,6],[3,15,4,15],[2,20,4,20],[2,0,2,3],[1,4,2,8],[1,9,2,13],[1,14,2,18],[57,18,58,18],[56,4,56,8],[56,9,56,13],[56,14,56,18],[3,12,4,12],[3,13,4,13],[3,14,4,14],[56,20,58,20],[57,4,58,4],[57,5,58,5],[57,6,58,6],[57,7,58,7],[57,8,58,8],[57,9,58,9],[57,10,58,10],[57,11,58,11],[57,12,58,12],[56,19,58,19],[57,13,58,13],[57,14,58,14],[57,15,58,15],[57,16,58,16],[57,17,58,17],[2,19,4,19],[3,11,4,11],[3,18,4,18],[3,16,4,16],[3,17,4,17]]}
["Repair Order Analysis"]
[null,null,null,null,"Competitive Labor",null,null,null,null,"Maintenance Labor",null,null,null,null,"Repair Labor"]
["Dealership",null,null,null,null,null,null,null,null,null,null,null,null,null,null,null,null,null,null,"Total Cost of Labor","One Item Repair Order"]
["RO Number",null,null,null,"Labor Sales","Flat Rate Hours","Technician Number","Pay Per FRH","Labor Cost ","Labor Sales","Flat Rate Hours","Technician Number","Pay Per FRH","Labor Cost ","Labor Sales","Flat Rate Hours","Technician Number","Pay Per FRH","Labor Cost "]
[null,"Year","Model ","Mileage"]
[{"$f":"'Input Sheet'!C6","v":0},{"$f":"'Input Sheet'!D6","v":0},{"$f":"'Input Sheet'!E6","v":0},{"$f":"'Input Sheet'!F6","v":0},{"$f":"'Input Sheet'!G6","v":0},{"$f":"'Input Sheet'!H6","v":0},{"$f":"'Input Sheet'!I6","v":0},{"$f":"'Input Sheet'!J6","v":""},{"$f":"F6*H6","v":{"$error":"#VALUE!"}},{"$f":"'Input Sheet'!L6","v":0},{"$f":"'Input Sheet'!M6","v":0},{"$f":"'Input Sheet'!I6","v":0},{"$f":"'Input Sheet'!J6","v":""},{"$f":"K6*M6","v":{"$error":"#VALUE!"}},{"$f":"'Input Sheet'!Q6","v":0},{"$f":"'Input Sheet'!R6","v":0},{"$f":"'Input Sheet'!S6","v":0},{"$f":"'Input Sheet'!T6","v":""},{"$f":"P6*R6","v":{"$error":"#VALUE!"}},{"$f":"'Input Sheet'!V6","v":0},{"$f":"'Input Sheet'!W6","v":0}]
[{"$f":"'Input Sheet'!C7","v":0},{"$f":"'Input Sheet'!D7","v":0},{"$f":"'Input Sheet'!E7","v":0},{"$f":"'Input Sheet'!F7","v":0},{"$f":"'Input Sheet'!G7","v":0},{"$f":"'Input Sheet'!H7","v":0},{"$f":"'Input Sheet'!I7","v":0},{"$f":"'Input Sheet'!J7","v":""},{"$f":"F7*H7","v":{"$error":"#VALUE!"}},{"$f":"'Input Sheet'!L7","v":0},{"$f":"'Input Sheet'!M7","v":0},{"$f":"'Input Sheet'!I7","v":0},{"$f":"'Input Sheet'!J7","v":""},{"$f":"K7*M7","v":{"$error":"#VALUE!"}},{"$f":"'Input Sheet'!Q7","v":0},{"$f":"'Input Sheet'!R7","v":0},{"$f":"'Input Sheet'!S7","v":0},{"$f":"'Input Sheet'!T7","v":""},{"$f":"P7*R7","v":{"$error":"#VALUE!"}},{"$f":"'Input Sheet'!V7","v":0},{"$f":"'Input Sheet'!W7","v":0}]
[{"$f":"'Input Sheet'!C8","v":0},{"$f":"'Input Sheet'!D8","v":0},{"$f":"'Input Sheet'!E8","v":0},{"$f":"'Input Sheet'!F8","v":0},{"$f":"'Input Sheet'!G8","v":0},{"$f":"'Input Sheet'!H8","v":0},{"$f":"'Input Sheet'!I8","v":0},{"$f":"'Input Sheet'!J8","v":""},{"$error":"#VALUE!"},{"$f":"'Input Sheet'!L8","v":0},{"$f":"'Input Sheet'!M8","v":0},{"$f":"'Input Sheet'!I8","v":0},{"$f":"'Input Sheet'!J8","v":""},{"$error":"#VALUE!"},{"$f":"'Input Sheet'!Q8","v":0},{"$f":"'Input Sheet'!R8","v":0},{"$f":"'Input Sheet'!S8","v":0},{"$f":"'Input Sheet'!T8","v":""},{"$error":"#VALUE!"},{"$f":"'Input Sheet'!V8","v":0},{"$f":"'Input Sheet'!W8","v":0}]
[{"$f":"'Input Sheet'!C9","v":0},{"$f":"'Input Sheet'!D9","v":0},{"$f":"'Input Sheet'!E9","v":0},{"$f":"'Input Sheet'!F9","v":0},{"$f":"'Input Sheet'!G9","v":0},{"$f":"'Input Sheet'!H9","v":0},{"$f":"'Input Sheet'!I9","v":0},{"$f":"'Input Sheet'!J9","v":""},{"$error":"#VALUE!"},{"$f":"'Input Sheet'!L9","v":0},{"$f":"'Input Sheet'!M9","v":0},{"$f":"'Input Sheet'!I9","v":0},{"$f":"'Input Sheet'!J9","v":""},{"$error":"#VALUE!"},{"$f":"'Input Sheet'!Q9","v":0},{"$f":"'Input Sheet'!R9","v":0},{"$f":"'Input Sheet'!S9","v":0},{"$f":"'Input Sheet'!T9","v":""},{"$error":"#VALUE!"},{"$f":"'Input Sheet'!V9","v":0},{"$f":"'Input Sheet'!W9","v":0}]
[{"$f":"'Input Sheet'!C10","v":0},{"$f":"'Input Sheet'!D10","v":0},{"$f":"'Input Sheet'!E10","v":0},{"$f":"'Input Sheet'!F10","v":0},{"$f":"'Input Sheet'!G10","v":0},{"$f":"'Input Sheet'!H10","v":0},{"$f":"'Input Sheet'!I10","v":0},{"$f":"'Input Sheet'!J10","v":""},{"$error":"#VALUE!"},{"$f":"'Input Sheet'!L10","v":0},{"$f":"'Input Sheet'!M10","v":0},{"$f":"'Input Sheet'!I10","v":0},{"$f":"'Input Sheet'!J10","v":""},{"$error":"#VALUE!"},{"$f":"'Input Sheet'!Q10","v":0},{"$f":"'Input Sheet'!R10","v":0},{"$f":"'Input Sheet'!S10","v":0},{"$f":"'Input Sheet'!T10","v":""},{"$error":"#VALUE!"},{"$f":"'Input Sheet'!V10","v":0},{"$f":"'Input Sheet'!W10","v":0}]
[{"$f":"'Input Sheet'!C11","v":0},{"$f":"'Input Sheet'!D11","v":0},{"$f":"'Input Sheet'!E11","v":0},{"$f":"'Input Sheet'!F11","v":0},{"$f":"'Input Sheet'!G11","v":0},{"$f":"'Input Sheet'!H11","v":0},{"$f":"'Input Sheet'!I11","v":0},{"$f":"'Input Sheet'!J11","v":""},{"$error":"#VALUE!"},{"$f":"'Input Sheet'!L11","v":0},{"$f":"'Input Sheet'!M11","v":0},{"$f":"'Input Sheet'!I11","v":0},{"$f":"'Input Sheet'!J11","v":""},{"$error":"#VALUE!"},{"$f":"'Input Sheet'!Q11","v":0},{"$f":"'Input Sheet'!R11","v":0},{"$f":"'Input Sheet'!S11","v":0},{"$f":"'Input Sheet'!T11","v":""},{"$error":"#VALUE!"},{"$f":"'Input Sheet'!V11","v":0},{"$f":"'Input Sheet'!W11","v":0}]
[{"$f":"'Input Sheet'!C12","v":0},{"$f":"'Input Sheet'!D12","v":0},{"$f":"'Input Sheet'!E12","v":0},{"$f":"'Input Sheet'!F12","v":0},{"$f":"'Input Sheet'!G12","v":0},{"$f":"'Input Sheet'!H12","v":0},{"$f":"'Input Sheet'!I12","v":0},{"$f":"'Input Sheet'!J12","v":""},{"$error":"#VALUE!"},{"$f":"'Input Sheet'!L12","v":0},{"$f":"'Input Sheet'!M12","v":0},{"$f":"'Input Sheet'!I12","v":0},{"$f":"'Input Sheet'!J12","v":""},{"$error":"#VALUE!"},{"$f":"'Input Sheet'!Q12","v":0},{"$f":"'Input Sheet'!R12","v":0},{"$f":"'Input Sheet'!S12","v":0},{"$f":"'Input Sheet'!T12","v":""},{"$error":"#VALUE!"},{"$f":"'Input Sheet'!V12","v":0},{"$f":"'Input Sheet'!W12","v":0}]
[{"$f":"'Input Sheet'!C13","v":0},{"$f":"'Input Sheet'!D13","v":0},{"$f":"'Input Sheet'!E13","v":0},{"$f":"'Input Sheet'!F13","v":0},{"$f":"'Input Sheet'!G13","v":0},{"$f":"'Input Sheet'!H13","v":0},{"$f":"'Input Sheet'!I13","v":0},{"$f":"'Input Sheet'!J13","v":""},{"$error":"#VALUE!"},{"$f":"'Input Sheet'!L13","v":0},{"$f":"'Input Sheet'!M13","v":0},{"$f":"'Input Sheet'!I13","v":0},{"$f":"'Input Sheet'!J13","v":""},{"$error":"#VALUE!"},{"$f":"'Input Sheet'!Q13","v":0},{"$f":"'Input Sheet'!R13","v":0},{"$f":"'Input Sheet'!S13","v":0},{"$f":"'Input Sheet'!T13","v":""},{"$error":"#VALUE!"},{"$f":"'Input Sheet'!V13","v":0},{"$f":"'Input Sheet'!W13","v":0}]
[{"$f":"'Input Sheet'!C14","v":0},{"$f":"'Input Sheet'!D14","v":0},{"$f":"'Input Sheet'!E14","v":0},{"$f":"'Input Sheet'!F14","v":0},{"$f":"'Input Sheet'!G14","v":0},{"$f":"'Input Sheet'!H14","v":0},{"$f":"'Input Sheet'!I14","v":0},{"$f":"'Input Sheet'!J14","v":""},{"$error":"#VALUE!"},{"$f":"'Input Sheet'!L14","v":0},{"$f":"'Input Sheet'!M14","v":0},{"$f":"'Input Sheet'!I14","v":0},{"$f":"'Input Sheet'!J14","v":""},{"$error":"#VALUE!"},{"$f":"'Input Sheet'!Q14","v":0},{"$f":"'Input Sheet'!R14","v":0},{"$f":"'Input Sheet'!S14","v":0},{"$f":"'Input Sheet'!T14","v":""},{"$error":"#VALUE!"},{"$f":"'Input Sheet'!V14","v":0},{"$f":"'Input Sheet'!W14","v":0}]
[{"$f":"'Input Sheet'!C15","v":0},{"$f":"'Input Sheet'!D15","v":0},{"$f":"'Input Sheet'!E15","v":0},{"$f":"'Input Sheet'!F15","v":0},{"$f":"'Input Sheet'!G15","v":0},{"$f":"'Input Sheet'!H15","v":0},{"$f":"'Input Sheet'!I15","v":0},{"$f":"'Input Sheet'!J15","v":""},{"$error":"#VALUE!"},{"$f":"'Input Sheet'!L15","v":0},{"$f":"'Input Sheet'!M15","v":0},{"$f":"'Input Sheet'!I15","v":0},{"$f":"'Input Sheet'!J15","v":""},{"$error":"#VALUE!"},{"$f":"'Input Sheet'!Q15","v":0},{"$f":"'Input Sheet'!R15","v":0},{"$f":"'Input Sheet'!S15","v":0},{"$f":"'Input Sheet'!T15","v":""},{"$error":"#VALUE!"},{"$f":"'Input Sheet'!V15","v":0},{"$f":"'Input Sheet'!W15","v":0}]
[{"$f":"'Input Sheet'!C16","v":0},{"$f":"'Input Sheet'!D16","v":0},{"$f":"'Input Sheet'!E16","v":0},{"$f":"'Input Sheet'!F16","v":0},{"$f":"'Input Sheet'!G16","v":0},{"$f":"'Input Sheet'!H16","v":0},{"$f":"'Input Sheet'!I16","v":0},{"$f":"'Input Sheet'!J16","v":""},{"$error":"#VALUE!"},{"$f":"'Input Sheet'!L16","v":0},{"$f":"'Input Sheet'!M16","v":0},{"$f":"'Input Sheet'!I16","v":0},{"$f":"'Input Sheet'!J16","v":""},{"$error":"#VALUE!"},{"$f":"'Input Sheet'!Q16","v":0},{"$f":"'Input Sheet'!R16","v":0},{"$f":"'Input Sheet'!S16","v":0},{"$f":"'Input Sheet'!T16","v":""},{"$error":"#VALUE!"},{"$f":"'Input Sheet'!V16","v":0},{"$f":"'Input Sheet'!W16","v":0}]
[{"$f":"'Input Sheet'!C17","v":0},{"$f":"'Input Sheet'!D17","v":0},{"$f":"'Input Sheet'!E17","v":0},{"$f":"'Input Sheet'!F17","v":0},{"$f":"'Input Sheet'!G17","v":0},{"$f":"'Input Sheet'!H17","v":0},{"$f":"'Input Sheet'!I17","v":0},{"$f":"'Input Sheet'!J17","v":""},{"$error":"#VALUE!"},{"$f":"'Input Sheet'!L17","v":0},{"$f":"'Input Sheet'!M17","v":0},{"$f":"'Input Sheet'!I17","v":0},{"$f":"'Input Sheet'!J17","v":""},{"$error":"#VALUE!"},{"$f":"'Input Sheet'!Q17","v":0},{"$f":"'Input Sheet'!R17","v":0},{"$f":"'Input Sheet'!S17","v":0},{"$f":"'Input Sheet'!T17","v":""},{"$error":"#VALUE!"},{"$f":"'Input Sheet'!V17","v":0},{"$f":"'Input Sheet'!W17","v":0}]
[{"$f":"'Input Sheet'!C18","v":0},{"$f":"'Input Sheet'!D18","v":0},{"$f":"'Input Sheet'!E18","v":0},{"$f":"'Input Sheet'!F18","v":0},{"$f":"'Input Sheet'!G18","v":0},{"$f":"'Input Sheet'!H18","v":0},{"$f":"'Input Sheet'!I18","v":0},{"$f":"'Input Sheet'!J18","v":""},{"$error":"#VALUE!"},{"$f":"'Input Sheet'!L18","v":0},{"$f":"'Input Sheet'!M18","v":0},{"$f":"'Input Sheet'!I18","v":0},{"$f":"'Input Sheet'!J18","v":""},{"$error":"#VALUE!"},{"$f":"'Input Sheet'!Q18","v":0},{"$f":"'Input Sheet'!R18","v":0},{"$f":"'Input Sheet'!S18","v":0},{"$f":"'Input Sheet'!T18","v":""},{"$error":"#VALUE!"},{"$f":"'Input Sheet'!V18","v":0},{"$f":"'Input Sheet'!W18","v":0}]
[{"$f":"'Input Sheet'!C19","v":0},{"$f":"'Input Sheet'!D19","v":0},{"$f":"'Input Sheet'!E19","v":0},{"$f":"'Input Sheet'!F19","v":0},{"$f":"'Input Sheet'!G19","v":0},{"$f":"'Input Sheet'!H19","v":0},{"$f":"'Input Sheet'!I19","v":0},{"$f":"'Input Sheet'!J19","v":""},{"$error":"#VALUE!"},{"$f":"'Input Sheet'!L19","v":0},{"$f":"'Input Sheet'!M19","v":0},{"$f":"'Input Sheet'!I19","v":0},{"$f":"'Input Sheet'!J19","v":""},{"$error":"#VALUE!"},{"$f":"'Input Sheet'!Q19","v":0},{"$f":"'Input Sheet'!R19","v":0},{"$f":"'Input Sheet'!S19","v":0},{"$f":"'Input Sheet'!T19","v":""},{"$error":"#VALUE!"},{"$f":"'Input Sheet'!V19","v":0},{"$f":"'Input Sheet'!W19","v":0}]
[{"$f":"'Input Sheet'!C20","v":0},{"$f":"'Input Sheet'!D20","v":0},{"$f":"'Input Sheet'!E20","v":0},{"$f":"'Input Sheet'!F20","v":0},{"$f":"'Input Sheet'!G20","v":0},{"$f":"'Input Sheet'!H20","v":0},{"$f":"'Input Sheet'!I20","v":0},{"$f":"'Input Sheet'!J20","v":""},{"$error":"#VALUE!"},{"$f":"'Input Sheet'!L20","v":0},{"$f":"'Input Sheet'!M20","v":0},{"$f":"'Input Sheet'!I20","v":0},{"$f":"'Input Sheet'!J20","v":""},{"$error":"#VALUE!"},{"$f":"'Input Sheet'!Q20","v":0},{"$f":"'Input Sheet'!R20","v":0},{"$f":"'Input Sheet'!S20","v":0},{"$f":"'Input Sheet'!T20","v":""},{"$error":"#VALUE!"},{"$f":"'Input Sheet'!V20","v":0},{"$f":"'Input Sheet'!W20","v":0}]
[{"$f":"'Input Sheet'!C21","v":0},{"$f":"'Input Sheet'!D21","v":0},{"$f":"'Input Sheet'!E21","v":0},{"$f":"'Input Sheet'!F21","v":0},{"$f":"'Input Sheet'!G21","v":0},{"$f":"'Input Sheet'!H21","v":0},{"$f":"'Input Sheet'!I21","v":0},{"$f":"'Input Sheet'!J21","v":""},{"$error":"#VALUE!"},{"$f":"'Input Sheet'!L21","v":0},{"$f":"'Input Sheet'!M21","v":0},{"$f":"'Input Sheet'!I21","v":0},{"$f":"'Input Sheet'!J21","v":""},{"$error":"#VALUE!"},{"$f":"'Input Sheet'!Q21","v":0},{"$f":"'Input Sheet'!R21","v":0},{"$f":"'Input Sheet'!S21","v":0},{"$f":"'Input Sheet'!T21","v":""},{"$error":"#VALUE!"},{"$f":"'Input Sheet'!V21","v":0},{"$f":"'Input Sheet'!W21","v":0}]
[{"$f":"'Input Sheet'!C22","v":0},{"$f":"'Input Sheet'!D22","v":0},{"$f":"'Input Sheet'!E22","v":0},{"$f":"'Input Sheet'!F22","v":0},{"$f":"'Input Sheet'!G22","v":0},{"$f":"'Input Sheet'!H22","v":0},{"$f":"'Input Sheet'!I22","v":0},{"$f":"'Input Sheet'!J22","v":""},{"$error":"#VALUE!"},{"$f":"'Input Sheet'!L22","v":0},{"$f":"'Input Sheet'!M22","v":0},{"$f":"'Input Sheet'!I22","v":0},{"$f":"'Input Sheet'!J22","v":""},{"$error":"#VALUE!"},{"$f":"'Input Sheet'!Q22","v":0},{"$f":"'Input Sheet'!R22","v":0},{"$f":"'Input Sheet'!S22","v":0},{"$f":"'Input Sheet'!T22","v":""},{"$error":"#VALUE!"},{"$f":"'Input Sheet'!V22","v":0},{"$f":"'Input Sheet'!W22","v":0}]
[{"$f":"'Input Sheet'!C23","v":0},{"$f":"'Input Sheet'!D23","v":0},{"$f":"'Input Sheet'!E23","v":0},{"$f":"'Input Sheet'!F23","v":0},{"$f":"'Input Sheet'!G23","v":0},{"$f":"'Input Sheet'!H23","v":0},{"$f":"'Input Sheet'!I23","v":0},{"$f":"'Input Sheet'!J23","v":""},{"$error":"#VALUE!"},{"$f":"'Input Sheet'!L23","v":0},{"$f":"'Input Sheet'!M23","v":0},{"$f":"'Input Sheet'!I23","v":0},{"$f":"'Input Sheet'!J23","v":""},{"$error":"#VALUE!"},{"$f":"'Input Sheet'!Q23","v":0},{"$f":"'Input Sheet'!R23","v":0},{"$f":"'Input Sheet'!S23","v":0},{"$f":"'Input Sheet'!T23","v":""},{"$error":"#VALUE!"},{"$f":"'Input Sheet'!V23","v":0},{"$f":"'Input Sheet'!W23","v":0}]
[{"$f":"'Input Sheet'!C24","v":0},{"$f":"'Input Sheet'!D24","v":0},{"$f":"'Input Sheet'!E24","v":0},{"$f":"'Input Sheet'!F24","v":0},{"$f":"'Input Sheet'!G24","v":0},{"$f":"'Input Sheet'!H24","v":0},{"$f":"'Input Sheet'!I24","v":0},{"$f":"'Input Sheet'!J24","v":""},{"$error":"#VALUE!"},{"$f":"'Input Sheet'!L24","v":0},{"$f":"'Input Sheet'!M24","v":0},{"$f":"'Input Sheet'!I24","v":0},{"$f":"'Input Sheet'!J24","v":""},{"$error":"#VALUE!"},{"$f":"'Input Sheet'!Q24","v":0},{"$f":"'Input Sheet'!R24","v":0},{"$f":"'Input Sheet'!S24","v":0},{"$f":"'Input Sheet'!T24","v":""},{"$error":"#VALUE!"},{"$f":"'Input Sheet'!V24","v":0},{"$f":"'Input Sheet'!W24","v":0}]
[{"$f":"'Input Sheet'!C25","v":0},{"$f":"'Input Sheet'!D25","v":0},{"$f":"'Input Sheet'!E25","v":0},{"$f":"'Input Sheet'!F25","v":0},{"$f":"'Input Sheet'!G25","v":0},{"$f":"'Input Sheet'!H25","v":0},{"$f":"'Input Sheet'!I25","v":0},{"$f":"'Input Sheet'!J25","v":""},{"$error":"#VALUE!"},{"$f":"'Input Sheet'!L25","v":0},{"$f":"'Input Sheet'!M25","v":0},{"$f":"'Input Sheet'!I25","v":0},{"$f":"'Input Sheet'!J25","v":""},{"$error":"#VALUE!"},{"$f":"'Input Sheet'!Q25","v":0},{"$f":"'Input Sheet'!R25","v":0},{"$f":"'Input Sheet'!S25","v":0},{"$f":"'Input Sheet'!T25","v":""},{"$error":"#VALUE!"},{"$f":"'Input Sheet'!V25","v":0},{"$f":"'Input Sheet'!W25","v":0}]
[{"$f":"'Input Sheet'!C26","v":0},{"$f":"'Input Sheet'!D26","v":0},{"$f":"'Input Sheet'!E26","v":0},{"$f":"'Input Sheet'!F26","v":0},{"$f":"'Input Sheet'!G26","v":0},{"$f":"'Input Sheet'!H26","v":0},{"$f":"'Input Sheet'!I26","v":0},{"$f":"'Input Sheet'!J26","v":""},{"$error":"#VALUE!"},{"$f":"'Input Sheet'!L26","v":0},{"$f":"'Input Sheet'!M26","v":0},{"$f":"'Input Sheet'!I26","v":0},{"$f":"'Input Sheet'!J26","v":""},{"$error":"#VALUE!"},{"$f":"'Input Sheet'!Q26","v":0},{"$f":"'Input Sheet'!R26","v":0},{"$f":"'Input Sheet'!S26","v":0},{"$f":"'Input Sheet'!T26","v":""},{"$error":"#VALUE!"},{"$f":"'Input Sheet'!V26","v":0},{"$f":"'Input Sheet'!W26","v":0}]
[{"$f":"'Input Sheet'!C27","v":0},{"$f":"'Input Sheet'!D27","v":0},{"$f":"'Input Sheet'!E27","v":0},{"$f":"'Input Sheet'!F27","v":0},{"$f":"'Input Sheet'!G27","v":0},{"$f":"'Input Sheet'!H27","v":0},{"$f":"'Input Sheet'!I27","v":0},{"$f":"'Input Sheet'!J27","v":""},{"$error":"#VALUE!"},{"$f":"'Input Sheet'!L27","v":0},{"$f":"'Input Sheet'!M27","v":0},{"$f":"'Input Sheet'!I27","v":0},{"$f":"'Input Sheet'!J27","v":""},{"$error":"#VALUE!"},{"$f":"'Input Sheet'!Q27","v":0},{"$f":"'Input Sheet'!R27","v":0},{"$f":"'Input Sheet'!S27","v":0},{"$f":"'Input Sheet'!T27","v":""},{"$error":"#VALUE!"},{"$f":"'Input Sheet'!V27","v":0},{"$f":"'Input Sheet'!W27","v":0}]
[{"$f":"'Input Sheet'!C28","v":0},{"$f":"'Input Sheet'!D28","v":0},{"$f":"'Input Sheet'!E28","v":0},{"$f":"'Input Sheet'!F28","v":0},{"$f":"'Input Sheet'!G28","v":0},{"$f":"'Input Sheet'!H28","v":0},{"$f":"'Input Sheet'!I28","v":0},{"$f":"'Input Sheet'!J28","v":""},{"$error":"#VALUE!"},{"$f":"'Input Sheet'!L28","v":0},{"$f":"'Input Sheet'!M28","v":0},{"$f":"'Input Sheet'!I28","v":0},{"$f":"'Input Sheet'!J28","v":""},{"$error":"#VALUE!"},{"$f":"'Input Sheet'!Q28","v":0},{"$f":"'Input Sheet'!R28","v":0},{"$f":"'Input Sheet'!S28","v":0},{"$f":"'Input Sheet'!T28","v":""},{"$error":"#VALUE!"},{"$f":"'Input Sheet'!V28","v":0},{"$f":"'Input Sheet'!W28","v":0}]
[{"$f":"'Input Sheet'!C29","v":0},{"$f":"'Input Sheet'!D29","v":0},{"$f":"'Input Sheet'!E29","v":0},{"$f":"'Input Sheet'!F29","v":0},{"$f":"'Input Sheet'!G29","v":0},{"$f":"'Input Sheet'!H29","v":0},{"$f":"'Input Sheet'!I29","v":0},{"$f":"'Input Sheet'!J29","v":""},{"$error":"#VALUE!"},{"$f":"'Input Sheet'!L29","v":0},{"$f":"'Input Sheet'!M29","v":0},{"$f":"'Input Sheet'!I29","v":0},{"$f":"'Input Sheet'!J29","v":""},{"$error":"#VALUE!"},{"$f":"'Input Sheet'!Q29","v":0},{"$f":"'Input Sheet'!R29","v":0},{"$f":"'Input Sheet'!S29","v":0},{"$f":"'Input Sheet'!T29","v":""},{"$error":"#VALUE!"},{"$f":"'Input Sheet'!V29","v":0},{"$f":"'Input Sheet'!W29","v":0}]
[{"$f":"'Input Sheet'!C30","v":0},{"$f":"'Input Sheet'!D30","v":0},{"$f":"'Input Sheet'!E30","v":0},{"$f":"'Input Sheet'!F30","v":0},{"$f":"'Input Sheet'!G30","v":0},{"$f":"'Input Sheet'!H30","v":0},{"$f":"'Input Sheet'!I30","v":0},{"$f":"'Input Sheet'!J30","v":""},{"$error":"#VALUE!"},{"$f":"'Input Sheet'!L30","v":0},{"$f":"'Input Sheet'!M30","v":0},{"$f":"'Input Sheet'!I30","v":0},{"$f":"'Input Sheet'!J30","v":""},{"$error":"#VALUE!"},{"$f":"'Input Sheet'!Q30","v":0},{"$f":"'Input Sheet'!R30","v":0},{"$f":"'Input Sheet'!S30","v":0},{"$f":"'Input Sheet'!T30","v":""},{"$error":"#VALUE!"},{"$f":"'Input Sheet'!V30","v":0},{"$f":"'Input Sheet'!W30","v":0}]
[{"$f":"'Input Sheet'!C31","v":0},{"$f":"'Input Sheet'!D31","v":0},{"$f":"'Input Sheet'!E31","v":0},{"$f":"'Input Sheet'!F31","v":0},{"$f":"'Input Sheet'!G31","v":0},{"$f":"'Input Sheet'!H31","v":0},{"$f":"'Input Sheet'!I31","v":0},{"$f":"'Input Sheet'!J31","v":""},{"$error":"#VALUE!"},{"$f":"'Input Sheet'!L31","v":0},{"$f":"'Input Sheet'!M31","v":0},{"$f":"'Input Sheet'!I31","v":0},{"$f":"'Input Sheet'!J31","v":""},{"$error":"#VALUE!"},{"$f":"'Input Sheet'!Q31","v":0},{"$f":"'Input Sheet'!R31","v":0},{"$f":"'Input Sheet'!S31","v":0},{"$f":"'Input Sheet'!T31","v":""},{"$error":"#VALUE!"},{"$f":"'Input Sheet'!V31","v":0},{"$f":"'Input Sheet'!W31","v":0}]
[{"$f":"'Input Sheet'!C32","v":0},{"$f":"'Input Sheet'!D32","v":0},{"$f":"'Input Sheet'!E32","v":0},{"$f":"'Input Sheet'!F32","v":0},{"$f":"'Input Sheet'!G32","v":0},{"$f":"'Input Sheet'!H32","v":0},{"$f":"'Input Sheet'!I32","v":0},{"$f":"'Input Sheet'!J32","v":""},{"$error":"#VALUE!"},{"$f":"'Input Sheet'!L32","v":0},{"$f":"'Input Sheet'!M32","v":0},{"$f":"'Input Sheet'!I32","v":0},{"$f":"'Input Sheet'!J32","v":""},{"$error":"#VALUE!"},{"$f":"'Input Sheet'!Q32","v":0},{"$f":"'Input Sheet'!R32","v":0},{"$f":"'Input Sheet'!S32","v":0},{"$f":"'Input Sheet'!T32","v":""},{"$error":"#VALUE!"},{"$f":"'Input Sheet'!V32","v":0},{"$f":"'Input Sheet'!W32","v":0}]
[{"$f":"'Input Sheet'!C33","v":0},{"$f":"'Input Sheet'!D33","v":0},{"$f":"'Input Sheet'!E33","v":0},{"$f":"'Input Sheet'!F33","v":0},{"$f":"'Input Sheet'!G33","v":0},{"$f":"'Input Sheet'!H33","v":0},{"$f":"'Input Sheet'!I33","v":0},{"$f":"'Input Sheet'!J33","v":""},{"$error":"#VALUE!"},{"$f":"'Input Sheet'!L33","v":0},{"$f":"'Input Sheet'!M33","v":0},{"$f":"'Input Sheet'!I33","v":0},{"$f":"'Input Sheet'!J33","v":""},{"$error":"#VALUE!"},{"$f":"'Input Sheet'!Q33","v":0},{"$f":"'Input Sheet'!R33","v":0},{"$f":"'Input Sheet'!S33","v":0},{"$f":"'Input Sheet'!T33","v":""},{"$error":"#VALUE!"},{"$f":"'Input Sheet'!V33","v":0},{"$f":"'Input Sheet'!W33","v":0}]
[{"$f":"'Input Sheet'!C34","v":0},{"$f":"'Input Sheet'!D34","v":0},{"$f":"'Input Sheet'!E34","v":0},{"$f":"'Input Sheet'!F34","v":0},{"$f":"'Input Sheet'!G34","v":0},{"$f":"'Input Sheet'!H34","v":0},{"$f":"'Input Sheet'!I34","v":0},{"$f":"'Input Sheet'!J34","v":""},{"$error":"#VALUE!"},{"$f":"'Input Sheet'!L34","v":0},{"$f":"'Input Sheet'!M34","v":0},{"$f":"'Input Sheet'!I34","v":0},{"$f":"'Input Sheet'!J34","v":""},{"$error":"#VALUE!"},{"$f":"'Input Sheet'!Q34","v":0},{"$f":"'Input Sheet'!R34","v":0},{"$f":"'Input Sheet'!S34","v":0},{"$f":"'Input Sheet'!T34","v":""},{"$error":"#VALUE!"},{"$f":"'Input Sheet'!V34","v":0},{"$f":"'Input Sheet'!W34","v":0}]
[{"$f":"'Input Sheet'!C35","v":0},{"$f":"'Input Sheet'!D35","v":0},{"$f":"'Input Sheet'!E35","v":0},{"$f":"'Input Sheet'!F35","v":0},{"$f":"'Input Sheet'!G35","v":0},{"$f":"'Input Sheet'!H35","v":0},{"$f":"'Input Sheet'!I35","v":0},{"$f":"'Input Sheet'!J35","v":""},{"$error":"#VALUE!"},{"$f":"'Input Sheet'!L35","v":0},{"$f":"'Input Sheet'!M35","v":0},{"$f":"'Input Sheet'!I35","v":0},{"$f":"'Input Sheet'!J35","v":""},{"$error":"#VALUE!"},{"$f":"'Input Sheet'!Q35","v":0},{"$f":"'Input Sheet'!R35","v":0},{"$f":"'Input Sheet'!S35","v":0},{"$f":"'Input Sheet'!T35","v":""},{"$error":"#VALUE!"},{"$f":"'Input Sheet'!V35","v":0},{"$f":"'Input Sheet'!W35","v":0}]
[{"$f":"'Input Sheet'!C36","v":0},{"$f":"'Input Sheet'!D36","v":0},{"$f":"'Input Sheet'!E36","v":0},{"$f":"'Input Sheet'!F36","v":0},{"$f":"'Input Sheet'!G36","v":0},{"$f":"'Input Sheet'!H36","v":0},{"$f":"'Input Sheet'!I36","v":0},{"$f":"'Input Sheet'!J36","v":""},{"$error":"#VALUE!"},{"$f":"'Input Sheet'!L36","v":0},{"$f":"'Input Sheet'!M36","v":0},{"$f":"'Input Sheet'!I36","v":0},{"$f":"'Input Sheet'!J36","v":""},{"$error":"#VALUE!"},{"$f":"'Input Sheet'!Q36","v":0},{"$f":"'Input Sheet'!R36","v":0},{"$f":"'Input Sheet'!S36","v":0},{"$f":"'Input Sheet'!T36","v":""},{"$error":"#VALUE!"},{"$f":"'Input Sheet'!V36","v":0},{"$f":"'Input Sheet'!W36","v":0}]
[{"$f":"'Input Sheet'!C37","v":0},{"$f":"'Input Sheet'!D37","v":0},{"$f":"'Input Sheet'!E37","v":0},{"$f":"'Input Sheet'!F37","v":0},{"$f":"'Input Sheet'!G37","v":0},{"$f":"'Input Sheet'!H37","v":0},{"$f":"'Input Sheet'!I37","v":0},{"$f":"'Input Sheet'!J37","v":""},{"$error":"#VALUE!"},{"$f":"'Input Sheet'!L37","v":0},{"$f":"'Input Sheet'!M37","v":0},{"$f":"'Input Sheet'!I37","v":0},{"$f":"'Input Sheet'!J37","v":""},{"$error":"#VALUE!"},{"$f":"'Input Sheet'!Q37","v":0},{"$f":"'Input Sheet'!R37","v":0},{"$f":"'Input Sheet'!S37","v":0},{"$f":"'Input Sheet'!T37","v":""},{"$error":"#VALUE!"},{"$f":"'Input Sheet'!V37","v":0},{"$f":"'Input Sheet'!W37","v":0}]
[{"$f":"'Input Sheet'!C38","v":0},{"$f":"'Input Sheet'!D38","v":0},{"$f":"'Input Sheet'!E38","v":0},{"$f":"'Input Sheet'!F38","v":0},{"$f":"'Input Sheet'!G38","v":0},{"$f":"'Input Sheet'!H38","v":0},{"$f":"'Input Sheet'!I38","v":0},{"$f":"'Input Sheet'!J38","v":""},{"$error":"#VALUE!"},{"$f":"'Input Sheet'!L38","v":0},{"$f":"'Input Sheet'!M38","v":0},{"$f":"'Input Sheet'!I38","v":0},{"$f":"'Input Sheet'!J38","v":""},{"$error":"#VALUE!"},{"$f":"'Input Sheet'!Q38","v":0},{"$f":"'Input Sheet'!R38","v":0},{"$f":"'Input Sheet'!S38","v":0},{"$f":"'Input Sheet'!T38","v":""},{"$error":"#VALUE!"},{"$f":"'Input Sheet'!V38","v":0},{"$f":"'Input Sheet'!W38","v":0}]
[{"$f":"'Input Sheet'!C39","v":0},{"$f":"'Input Sheet'!D39","v":0},{"$f":"'Input Sheet'!E39","v":0},{"$f":"'Input Sheet'!F39","v":0},{"$f":"'Input Sheet'!G39","v":0},{"$f":"'Input Sheet'!H39","v":0},{"$f":"'Input Sheet'!I39","v":0},{"$f":"'Input Sheet'!J39","v":""},{"$error":"#VALUE!"},{"$f":"'Input Sheet'!L39","v":0},{"$f":"'Input Sheet'!M39","v":0},{"$f":"'Input Sheet'!I39","v":0},{"$f":"'Input Sheet'!J39","v":""},{"$error":"#VALUE!"},{"$f":"'Input Sheet'!Q39","v":0},{"$f":"'Input Sheet'!R39","v":0},{"$f":"'Input Sheet'!S39","v":0},{"$f":"'Input Sheet'!T39","v":""},{"$error":"#VALUE!"},{"$f":"'Input Sheet'!V39","v":0},{"$f":"'Input Sheet'!W39","v":0}]
[{"$f":"'Input Sheet'!C40","v":0},{"$f":"'Input Sheet'!D40","v":0},{"$f":"'Input Sheet'!E40","v":0},{"$f":"'Input Sheet'!F40","v":0},{"$f":"'Input Sheet'!G40","v":0},{"$f":"'Input Sheet'!H40","v":0},{"$f":"'Input Sheet'!I40","v":0},{"$f":"'Input Sheet'!J40","v":""},{"$error":"#VALUE!"},{"$f":"'Input Sheet'!L40","v":0},{"$f":"'Input Sheet'!M40","v":0},{"$f":"'Input Sheet'!I40","v":0},{"$f":"'Input Sheet'!J40","v":""},{"$error":"#VALUE!"},{"$f":"'Input Sheet'!Q40","v":0},{"$f":"'Input Sheet'!R40","v":0},{"$f":"'Input Sheet'!S40","v":0},{"$f":"'Input Sheet'!T40","v":""},{"$error":"#VALUE!"},{"$f":"'Input Sheet'!V40","v":0},{"$f":"'Input Sheet'!W40","v":0}]
[{"$f":"'Input Sheet'!C41","v":0},{"$f":"'Input Sheet'!D41","v":0},{"$f":"'Input Sheet'!E41","v":0},{"$f":"'Input Sheet'!F41","v":0},{"$f":"'Input Sheet'!G41","v":0},{"$f":"'Input Sheet'!H41","v":0},{"$f":"'Input Sheet'!I41","v":0},{"$f":"'Input Sheet'!J41","v":""},{"$error":"#VALUE!"},{"$f":"'Input Sheet'!L41","v":0},{"$f":"'Input Sheet'!M41","v":0},{"$f":"'Input Sheet'!I41","v":0},{"$f":"'Input Sheet'!J41","v":""},{"$error":"#VALUE!"},{"$f":"'Input Sheet'!Q41","v":0},{"$f":"'Input Sheet'!R41","v":0},{"$f":"'Input Sheet'!S41","v":0},{"$f":"'Input Sheet'!T41","v":""},{"$error":"#VALUE!"},{"$f":"'Input Sheet'!V41","v":0},{"$f":"'Input Sheet'!W41","v":0}]
[{"$f":"'Input Sheet'!C42","v":0},{"$f":"'Input Sheet'!D42","v":0},{"$f":"'Input Sheet'!E42","v":0},{"$f":"'Input Sheet'!F42","v":0},{"$f":"'Input Sheet'!G42","v":0},{"$f":"'Input Sheet'!H42","v":0},{"$f":"'Input Sheet'!I42","v":0},{"$f":"'Input Sheet'!J42","v":""},{"$error":"#VALUE!"},{"$f":"'Input Sheet'!L42","v":0},{"$f":"'Input Sheet'!M42","v":0},{"$f":"'Input Sheet'!I42","v":0},{"$f":"'Input Sheet'!J42","v":""},{"$error":"#VALUE!"},{"$f":"'Input Sheet'!Q42","v":0},{"$f":"'Input Sheet'!R42","v":0},{"$f":"'Input Sheet'!S42","v":0},{"$f":"'Input Sheet'!T42","v":""},{"$error":"#VALUE!"},{"$f":"'Input Sheet'!V42","v":0},{"$f":"'Input Sheet'!W42","v":0}]
[{"$f":"'Input Sheet'!C43","v":0},{"$f":"'Input Sheet'!D43","v":0},{"$f":"'Input Sheet'!E43","v":0},{"$f":"'Input Sheet'!F43","v":0},{"$f":"'Input Sheet'!G43","v":0},{"$f":"'Input Sheet'!H43","v":0},{"$f":"'Input Sheet'!I43","v":0},{"$f":"'Input Sheet'!J43","v":""},{"$error":"#VALUE!"},{"$f":"'Input Sheet'!L43","v":0},{"$f":"'Input Sheet'!M43","v":0},{"$f":"'Input Sheet'!I43","v":0},{"$f":"'Input Sheet'!J43","v":""},{"$error":"#VALUE!"},{"$f":"'Input Sheet'!Q43","v":0},{"$f":"'Input Sheet'!R43","v":0},{"$f":"'Input Sheet'!S43","v":0},{"$f":"'Input Sheet'!T43","v":""},{"$error":"#VALUE!"},{"$f":"'Input Sheet'!V43","v":0},{"$f":"'Input Sheet'!W43","v":0}]
[{"$f":"'Input Sheet'!C44","v":0},{"$f":"'Input Sheet'!D44","v":0},{"$f":"'Input Sheet'!E44","v":0},{"$f":"'Input Sheet'!F44","v":0},{"$f":"'Input Sheet'!G44","v":0},{"$f":"'Input Sheet'!H44","v":0},{"$f":"'Input Sheet'!I44","v":0},{"$f":"'Input Sheet'!J44","v":""},{"$error":"#VALUE!"},{"$f":"'Input Sheet'!L44","v":0},{"$f":"'Input Sheet'!M44","v":0},{"$f":"'Input Sheet'!I44","v":0},{"$f":"'Input Sheet'!J44","v":""},{"$error":"#VALUE!"},{"$f":"'Input Sheet'!Q44","v":0},{"$f":"'Input Sheet'!R44","v":0},{"$f":"'Input Sheet'!S44","v":0},{"$f":"'Input Sheet'!T44","v":""},{"$error":"#VALUE!"},{"$f":"'Input Sheet'!V44","v":0},{"$f":"'Input Sheet'!W44","v":0}]
[{"$f":"'Input Sheet'!C45","v":0},{"$f":"'Input Sheet'!D45","v":0},{"$f":"'Input Sheet'!E45","v":0},{"$f":"'Input Sheet'!F45","v":0},{"$f":"'Input Sheet'!G45","v":0},{"$f":"'Input Sheet'!H45","v":0},{"$f":"'Input Sheet'!I45","v":0},{"$f":"'Input Sheet'!J45","v":""},{"$error":"#VALUE!"},{"$f":"'Input Sheet'!L45","v":0},{"$f":"'Input Sheet'!M45","v":0},{"$f":"'Input Sheet'!I45","v":0},{"$f":"'Input Sheet'!J45","v":""},{"$error":"#VALUE!"},{"$f":"'Input Sheet'!Q45","v":0},{"$f":"'Input Sheet'!R45","v":0},{"$f":"'Input Sheet'!S45","v":0},{"$f":"'Input Sheet'!T45","v":""},{"$error":"#VALUE!"},{"$f":"'Input Sheet'!V45","v":0},{"$f":"'Input Sheet'!W45","v":0}]
[{"$f":"'Input Sheet'!C46","v":0},{"$f":"'Input Sheet'!D46","v":0},{"$f":"'Input Sheet'!E46","v":0},{"$f":"'Input Sheet'!F46","v":0},{"$f":"'Input Sheet'!G46","v":0},{"$f":"'Input Sheet'!H46","v":0},{"$f":"'Input Sheet'!I46","v":0},{"$f":"'Input Sheet'!J46","v":""},{"$error":"#VALUE!"},{"$f":"'Input Sheet'!L46","v":0},{"$f":"'Input Sheet'!M46","v":0},{"$f":"'Input Sheet'!I46","v":0},{"$f":"'Input Sheet'!J46","v":""},{"$error":"#VALUE!"},{"$f":"'Input Sheet'!Q46","v":0},{"$f":"'Input Sheet'!R46","v":0},{"$f":"'Input Sheet'!S46","v":0},{"$f":"'Input Sheet'!T46","v":""},{"$error":"#VALUE!"},{"$f":"'Input Sheet'!V46","v":0},{"$f":"'Input Sheet'!W46","v":0}]
[{"$f":"'Input Sheet'!C47","v":0},{"$f":"'Input Sheet'!D47","v":0},{"$f":"'Input Sheet'!E47","v":0},{"$f":"'Input Sheet'!F47","v":0},{"$f":"'Input Sheet'!G47","v":0},{"$f":"'Input Sheet'!H47","v":0},{"$f":"'Input Sheet'!I47","v":0},{"$f":"'Input Sheet'!J47","v":""},{"$error":"#VALUE!"},{"$f":"'Input Sheet'!L47","v":0},{"$f":"'Input Sheet'!M47","v":0},{"$f":"'Input Sheet'!I47","v":0},{"$f":"'Input Sheet'!J47","v":""},{"$error":"#VALUE!"},{"$f":"'Input Sheet'!Q47","v":0},{"$f":"'Input Sheet'!R47","v":0},{"$f":"'Input Sheet'!S47","v":0},{"$f":"'Input Sheet'!T47","v":""},{"$error":"#VALUE!"},{"$f":"'Input Sheet'!V47","v":0},{"$f":"'Input Sheet'!W47","v":0}]
[{"$f":"'Input Sheet'!C48","v":0},{"$f":"'Input Sheet'!D48","v":0},{"$f":"'Input Sheet'!E48","v":0},{"$f":"'Input Sheet'!F48","v":0},{"$f":"'Input Sheet'!G48","v":0},{"$f":"'Input Sheet'!H48","v":0},{"$f":"'Input Sheet'!I48","v":0},{"$f":"'Input Sheet'!J48","v":""},{"$error":"#VALUE!"},{"$f":"'Input Sheet'!L48","v":0},{"$f":"'Input Sheet'!M48","v":0},{"$f":"'Input Sheet'!I48","v":0},{"$f":"'Input Sheet'!J48","v":""},{"$error":"#VALUE!"},{"$f":"'Input Sheet'!Q48","v":0},{"$f":"'Input Sheet'!R48","v":0},{"$f":"'Input Sheet'!S48","v":0},{"$f":"'Input Sheet'!T48","v":""},{"$error":"#VALUE!"},{"$f":"'Input Sheet'!V48","v":0},{"$f":"'Input Sheet'!W48","v":0}]
[{"$f":"'Input Sheet'!C49","v":0},{"$f":"'Input Sheet'!D49","v":0},{"$f":"'Input Sheet'!E49","v":0},{"$f":"'Input Sheet'!F49","v":0},{"$f":"'Input Sheet'!G49","v":0},{"$f":"'Input Sheet'!H49","v":0},{"$f":"'Input Sheet'!I49","v":0},{"$f":"'Input Sheet'!J49","v":""},{"$error":"#VALUE!"},{"$f":"'Input Sheet'!L49","v":0},{"$f":"'Input Sheet'!M49","v":0},{"$f":"'Input Sheet'!I49","v":0},{"$f":"'Input Sheet'!J49","v":""},{"$error":"#VALUE!"},{"$f":"'Input Sheet'!Q49","v":0},{"$f":"'Input Sheet'!R49","v":0},{"$f":"'Input Sheet'!S49","v":0},{"$f":"'Input Sheet'!T49","v":""},{"$error":"#VALUE!"},{"$f":"'Input Sheet'!V49","v":0},{"$f":"'Input Sheet'!W49","v":0}]
[{"$f":"'Input Sheet'!C50","v":0},{"$f":"'Input Sheet'!D50","v":0},{"$f":"'Input Sheet'!E50","v":0},{"$f":"'Input Sheet'!F50","v":0},{"$f":"'Input Sheet'!G50","v":0},{"$f":"'Input Sheet'!H50","v":0},{"$f":"'Input Sheet'!I50","v":0},{"$f":"'Input Sheet'!J50","v":""},{"$error":"#VALUE!"},{"$f":"'Input Sheet'!L50","v":0},{"$f":"'Input Sheet'!M50","v":0},{"$f":"'Input Sheet'!I50","v":0},{"$f":"'Input Sheet'!J50","v":""},{"$error":"#VALUE!"},{"$f":"'Input Sheet'!Q50","v":0},{"$f":"'Input Sheet'!R50","v":0},{"$f":"'Input Sheet'!S50","v":0},{"$f":"'Input Sheet'!T50","v":""},{"$error":"#VALUE!"},{"$f":"'Input Sheet'!V50","v":0},{"$f":"'Input Sheet'!W50","v":0}]
[{"$f":"'Input Sheet'!C51","v":0},{"$f":"'Input Sheet'!D51","v":0},{"$f":"'Input Sheet'!E51","v":0},{"$f":"'Input Sheet'!D51","v":0},{"$f":"'Input Sheet'!G51","v":0},{"$f":"'Input Sheet'!H51","v":0},{"$f":"'Input Sheet'!I51","v":0},{"$f":"'Input Sheet'!J51","v":""},{"$f":"F55*H51","v":{"$error":"#VALUE!"}},{"$f":"'Input Sheet'!L51","v":0},{"$f":"'Input Sheet'!M51","v":0},{"$f":"'Input Sheet'!I51","v":0},{"$f":"'Input Sheet'!J51","v":""},{"$error":"#VALUE!"},{"$f":"'Input Sheet'!Q51","v":0},{"$f":"'Input Sheet'!R51","v":0},{"$f":"'Input Sheet'!S51","v":0},{"$f":"'Input Sheet'!T51","v":""},{"$error":"#VALUE!"},{"$f":"'Input Sheet'!V51","v":0},{"$f":"'Input Sheet'!W51","v":0}]
[{"$f":"'Input Sheet'!C52","v":0},{"$f":"'Input Sheet'!D52","v":0},{"$f":"'Input Sheet'!E52","v":0},{"$f":"'Input Sheet'!F52","v":0},{"$f":"'Input Sheet'!G52","v":0},{"$f":"'Input Sheet'!H52","v":0},{"$f":"'Input Sheet'!I99","v":0},{"$f":"'Input Sheet'!J99","v":""},{"$error":"#VALUE!"},{"$f":"'Input Sheet'!L52","v":0},{"$f":"'Input Sheet'!M52","v":0},{"$f":"'Input Sheet'!I99","v":0},{"$f":"'Input Sheet'!J99","v":""},{"$error":"#VALUE!"},{"$f":"'Input Sheet'!Q52","v":0},{"$f":"'Input Sheet'!R52","v":0},{"$f":"'Input Sheet'!S99","v":0},{"$f":"'Input Sheet'!T99","v":""},{"$error":"#VALUE!"},{"$f":"'Input Sheet'!V52","v":0},{"$f":"'Input Sheet'!W52","v":0}]
[{"$f":"'Input Sheet'!C53","v":0},{"$f":"'Input Sheet'!D53","v":0},{"$f":"'Input Sheet'!E53","v":0},{"$f":"'Input Sheet'!F53","v":0},{"$f":"'Input Sheet'!G53","v":0},{"$f":"'Input Sheet'!H53","v":0},{"$f":"'Input Sheet'!I100","v":0},{"$f":"'Input Sheet'!J100","v":""},{"$error":"#VALUE!"},{"$f":"'Input Sheet'!L53","v":0},{"$f":"'Input Sheet'!M53","v":0},{"$f":"'Input Sheet'!I100","v":0},{"$f":"'Input Sheet'!J100","v":""},{"$error":"#VALUE!"},{"$f":"'Input Sheet'!Q53","v":0},{"$f":"'Input Sheet'!R53","v":0},{"$f":"'Input Sheet'!S100","v":0},{"$f":"'Input Sheet'!T100","v":""},{"$error":"#VALUE!"},{"$f":"'Input Sheet'!V53","v":0},{"$f":"'Input Sheet'!W53","v":0}]
[{"$f":"'Input Sheet'!C54","v":0},{"$f":"'Input Sheet'!D54","v":0},{"$f":"'Input Sheet'!E54","v":0},{"$f":"'Input Sheet'!F54","v":0},{"$f":"'Input Sheet'!G54","v":0},{"$f":"'Input Sheet'!H54","v":0},{"$f":"'Input Sheet'!I101","v":0},{"$f":"'Input Sheet'!J101","v":""},{"$f":"F54*H54","v":{"$error":"#VALUE!"}},{"$f":"'Input Sheet'!L54","v":0},{"$f":"'Input Sheet'!M54","v":0},{"$f":"'Input Sheet'!I101","v":0},{"$f":"'Input Sheet'!J101","v":""},{"$f":"K54*M54","v":{"$error":"#VALUE!"}},{"$f":"'Input Sheet'!Q54","v":0},{"$f":"'Input Sheet'!R54","v":0},{"$f":"'Input Sheet'!S101","v":0},{"$f":"'Input Sheet'!T101","v":""},{"$f":"P54*R54","v":{"$error":"#VALUE!"}},{"$f":"'Input Sheet'!V54","v":0},{"$f":"'Input Sheet'!W54","v":0}]
[{"$f":"'Input Sheet'!C55","v":0},{"$f":"'Input Sheet'!D55","v":0},{"$f":"'Input Sheet'!E55","v":0},{"$f":"'Input Sheet'!F55","v":0},{"$f":"'Input Sheet'!G55","v":0},{"$f":"'Input Sheet'!H55","v":0},{"$f":"'Input Sheet'!I105","v":0},{"$f":"'Input Sheet'!J105","v":""},{"$f":"#REF!*H55","v":{"$error":"#REF!"}},{"$f":"'Input Sheet'!L55","v":0},{"$f":"'Input Sheet'!M55","v":0},{"$f":"'Input Sheet'!I105","v":0},{"$f":"'Input Sheet'!J105","v":""},{"$error":"#VALUE!"},{"$f":"'Input Sheet'!Q55","v":0},{"$f":"'Input Sheet'!R55","v":0},{"$f":"'Input Sheet'!S105","v":0},{"$f":"'Input Sheet'!T105","v":""},{"$error":"#VALUE!"},{"$f":"'Input Sheet'!V55","v":0},{"$f":"'Input Sheet'!W55","v":0}]
["RO's 1-50",null,null,"Totals",{"$f":"SUM(E6:E55)","v":0},{"$f":"SUM(F6:F55)","v":0},null,null,{"$f":"SUM(I6:I55)","v":{"$error":"#VALUE!"}},0,0,0,0,{"$error":"#VALUE!"},{"$f":"SUM(O6:O55)","v":0},0,null,null,{"$error":"#VALUE!"},0,{"$f":"COUNTIF(U5:U55,1)","v":0}]
["Date of Study:",null,null,null,"C Labor",null,null,null,null,"M Labor",null,null,null,null,"R Labor",null,null,null,null,"Total Cost of Labor","One Item Repair Order"]
["Study Compiled by",null,null,null,"Labor Sales","Flat Rate Hours","Technician Number","Pay Per FRH","Labor Cost ","Labor Sales","Flat Rate Hours","Technician Number","Pay Per FRH","Labor Cost ","Labor Sales","Flat Rate Hours","Technician Number","Pay Per FRH","Labor Cost "]
[]
[]
[]
[]
[]
[]
[null,null,null,null,null,null,null,null,null,null,null,null,null,null,null,null,null,null,null,"`"]

{"sheet":"RO Report 51-100","index":4,"n_rows":58,"n_cols":21,"rows_kept":58,"cut":false,"hidden":false,"merged":[[3,17,4,17],[3,18,4,18],[57,4,58,4],[57,5,58,5],[57,6,58,6],[3,6,4,6],[3,7,4,7],[3,8,4,8],[3,9,4,9],[56,4,56,8],[56,9,56,13],[3,10,4,10],[3,11,4,11],[57,12,58,12],[57,13,58,13],[57,14,58,14],[57,7,58,7],[57,8,58,8],[57,9,58,9],[57,10,58,10],[57,11,58,11],[56,19,58,19],[56,20,58,20],[57,15,58,15],[57,16,58,16],[57,17,58,17],[57,18,58,18],[56,14,56,18],[1,0,1,3],[0,0,0,20],[1,4,2,8],[1,9,2,13],[1,14,2,18],[2,0,2,3],[2,20,4,20],[3,0,4,0],[3,4,4,4],[3,5,4,5],[2,19,4,19],[3,12,4,12],[3,13,4,13],[3,14,4,14],[3,15,4,15],[3,16,4,16]]}
["Repair Order Analysis "]
[null,null,null,null,"Competitive Labor",null,null,null,null,"Maintenance Labor",null,null,null,null,"Repair Labor"]
["Dealership",null,null,null,null,null,null,null,null,null,null,null,null,null,null,null,null,null,null,"Total Cost of Labor","One Item Repair Order"]
["RO Number",null,null,null,"Labor Sales","Flat Rate Hours","Technician Number","Pay Per FRH","Labor Cost ","Labor Sales","Flat Rate Hours","Technician Number","Pay Per FRH","Labor Cost ","Labor Sales","Flat Rate Hours","Technician Number","Pay Per FRH","Labor Cost "]
[null,"Year","Model ","Mileage"]
[{"$f":"'Input Sheet'!C56","v":0},{"$f":"'Input Sheet'!D56","v":0},{"$f":"'Input Sheet'!E56","v":0},{"$f":"'Input Sheet'!F56","v":0},{"$f":"'Input Sheet'!G56","v":0},{"$f":"'Input Sheet'!H56","v":0},{"$f":"'Input Sheet'!I56","v":0},{"$f":"'Input Sheet'!J56","v":""},{"$f":"F6*H6","v":{"$error":"#VALUE!"}},{"$f":"'Input Sheet'!L56","v":0},{"$f":"'Input Sheet'!M56","v":0},{"$f":"'Input Sheet'!N56","v":0},{"$f":"'Input Sheet'!O56","v":""},{"$f":"K6*M6","v":{"$error":"#VALUE!"}},{"$f":"'Input Sheet'!Q56","v":0},{"$f":"'Input Sheet'!R56","v":0},{"$f":"'Input Sheet'!S56","v":0},{"$f":"'Input Sheet'!T56","v":""},{"$f":"P6*R6","v":{"$error":"#VALUE!"}},{"$f":"'Input Sheet'!V56","v":0},{"$f":"'Input Sheet'!W56","v":0}]
[{"$f":"'Input Sheet'!C57","v":0},{"$f":"'Input Sheet'!D57","v":0},{"$f":"'Input Sheet'!E57","v":0},{"$f":"'Input Sheet'!F57","v":0},{"$f":"'Input Sheet'!G57","v":0},{"$f":"'Input Sheet'!H57","v":0},{"$f":"'Input Sheet'!I57","v":0},{"$f":"'Input Sheet'!J57","v":""},{"$error":"#VALUE!"},{"$f":"'Input Sheet'!L57","v":0},{"$f":"'Input Sheet'!M57","v":0},{"$f":"'Input Sheet'!N57","v":0},{"$f":"'Input Sheet'!O57","v":""},{"$error":"#VALUE!"},{"$f":"'Input Sheet'!Q57","v":0},{"$f":"'Input Sheet'!R57","v":0},{"$f":"'Input Sheet'!S57","v":0},{"$f":"'Input Sheet'!T57","v":""},{"$error":"#VALUE!"},{"$f":"'Input Sheet'!V57","v":0},{"$f":"'Input Sheet'!W57","v":0}]
[{"$f":"'Input Sheet'!C58","v":0},{"$f":"'Input Sheet'!D58","v":0},{"$f":"'Input Sheet'!E58","v":0},{"$f":"'Input Sheet'!F58","v":0},{"$f":"'Input Sheet'!G58","v":0},{"$f":"'Input Sheet'!H58","v":0},{"$f":"'Input Sheet'!I58","v":0},{"$f":"'Input Sheet'!J58","v":""},{"$error":"#VALUE!"},{"$f":"'Input Sheet'!L58","v":0},{"$f":"'Input Sheet'!M58","v":0},{"$f":"'Input Sheet'!N58","v":0},{"$f":"'Input Sheet'!O58","v":""},{"$error":"#VALUE!"},{"$f":"'Input Sheet'!Q58","v":0},{"$f":"'Input Sheet'!R58","v":0},{"$f":"'Input Sheet'!S58","v":0},{"$f":"'Input Sheet'!T58","v":""},{"$error":"#VALUE!"},{"$f":"'Input Sheet'!V58","v":0},{"$f":"'Input Sheet'!W58","v":0}]
[{"$f":"'Input Sheet'!C59","v":0},{"$f":"'Input Sheet'!D59","v":0},{"$f":"'Input Sheet'!E59","v":0},{"$f":"'Input Sheet'!F59","v":0},{"$f":"'Input Sheet'!G59","v":0},{"$f":"'Input Sheet'!H59","v":0},{"$f":"'Input Sheet'!I59","v":0},{"$f":"'Input Sheet'!J59","v":""},{"$error":"#VALUE!"},{"$f":"'Input Sheet'!L59","v":0},{"$f":"'Input Sheet'!M59","v":0},{"$f":"'Input Sheet'!N59","v":0},{"$f":"'Input Sheet'!O59","v":""},{"$error":"#VALUE!"},{"$f":"'Input Sheet'!Q59","v":0},{"$f":"'Input Sheet'!R59","v":0},{"$f":"'Input Sheet'!S59","v":0},{"$f":"'Input Sheet'!T59","v":""},{"$error":"#VALUE!"},{"$f":"'Input Sheet'!V59","v":0},{"$f":"'Input Sheet'!W59","v":0}]
[{"$f":"'Input Sheet'!C60","v":0},{"$f":"'Input Sheet'!D60","v":0},{"$f":"'Input Sheet'!E60","v":0},{"$f":"'Input Sheet'!F60","v":0},{"$f":"'Input Sheet'!G60","v":0},{"$f":"'Input Sheet'!H60","v":0},{"$f":"'Input Sheet'!I60","v":0},{"$f":"'Input Sheet'!J60","v":""},{"$error":"#VALUE!"},{"$f":"'Input Sheet'!L60","v":0},{"$f":"'Input Sheet'!M60","v":0},{"$f":"'Input Sheet'!N60","v":0},{"$f":"'Input Sheet'!O60","v":""},{"$error":"#VALUE!"},{"$f":"'Input Sheet'!Q60","v":0},{"$f":"'Input Sheet'!R60","v":0},{"$f":"'Input Sheet'!S60","v":0},{"$f":"'Input Sheet'!T60","v":""},{"$error":"#VALUE!"},{"$f":"'Input Sheet'!V60","v":0},{"$f":"'Input Sheet'!W60","v":0}]
[{"$f":"'Input Sheet'!C61","v":0},{"$f":"'Input Sheet'!D61","v":0},{"$f":"'Input Sheet'!E61","v":0},{"$f":"'Input Sheet'!F61","v":0},{"$f":"'Input Sheet'!G61","v":0},{"$f":"'Input Sheet'!H61","v":0},{"$f":"'Input Sheet'!I61","v":0},{"$f":"'Input Sheet'!J61","v":""},{"$error":"#VALUE!"},{"$f":"'Input Sheet'!L61","v":0},{"$f":"'Input Sheet'!M61","v":0},{"$f":"'Input Sheet'!N61","v":0},{"$f":"'Input Sheet'!O61","v":""},{"$error":"#VALUE!"},{"$f":"'Input Sheet'!Q61","v":0},{"$f":"'Input Sheet'!R61","v":0},{"$f":"'Input Sheet'!S61","v":0},{"$f":"'Input Sheet'!T61","v":""},{"$error":"#VALUE!"},{"$f":"'Input Sheet'!V61","v":0},{"$f":"'Input Sheet'!W61","v":0}]
[{"$f":"'Input Sheet'!C62","v":0},{"$f":"'Input Sheet'!D62","v":0},{"$f":"'Input Sheet'!E62","v":0},{"$f":"'Input Sheet'!F62","v":0},{"$f":"'Input Sheet'!G62","v":0},{"$f":"'Input Sheet'!H62","v":0},{"$f":"'Input Sheet'!I62","v":0},{"$f":"'Input Sheet'!J62","v":""},{"$error":"#VALUE!"},{"$f":"'Input Sheet'!L62","v":0},{"$f":"'Input Sheet'!M62","v":0},{"$f":"'Input Sheet'!N62","v":0},{"$f":"'Input Sheet'!O62","v":""},{"$error":"#VALUE!"},{"$f":"'Input Sheet'!Q62","v":0},{"$f":"'Input Sheet'!R62","v":0},{"$f":"'Input Sheet'!S62","v":0},{"$f":"'Input Sheet'!T62","v":""},{"$error":"#VALUE!"},{"$f":"'Input Sheet'!V62","v":0},{"$f":"'Input Sheet'!W62","v":0}]
[{"$f":"'Input Sheet'!C63","v":0},{"$f":"'Input Sheet'!D63","v":0},{"$f":"'Input Sheet'!E63","v":0},{"$f":"'Input Sheet'!F63","v":0},{"$f":"'Input Sheet'!G63","v":0},{"$f":"'Input Sheet'!H63","v":0},{"$f":"'Input Sheet'!I63","v":0},{"$f":"'Input Sheet'!J63","v":""},{"$error":"#VALUE!"},{"$f":"'Input Sheet'!L63","v":0},{"$f":"'Input Sheet'!M63","v":0},{"$f":"'Input Sheet'!N63","v":0},{"$f":"'Input Sheet'!O63","v":""},{"$error":"#VALUE!"},{"$f":"'Input Sheet'!Q63","v":0},{"$f":"'Input Sheet'!R63","v":0},{"$f":"'Input Sheet'!S63","v":0},{"$f":"'Input Sheet'!T63","v":""},{"$error":"#VALUE!"},{"$f":"'Input Sheet'!V63","v":0},{"$f":"'Input Sheet'!W63","v":0}]
[{"$f":"'Input Sheet'!C64","v":0},{"$f":"'Input Sheet'!D64","v":0},{"$f":"'Input Sheet'!E64","v":0},{"$f":"'Input Sheet'!F64","v":0},{"$f":"'Input Sheet'!G64","v":0},{"$f":"'Input Sheet'!H64","v":0},{"$f":"'Input Sheet'!I64","v":0},{"$f":"'Input Sheet'!J64","v":""},{"$error":"#VALUE!"},{"$f":"'Input Sheet'!L64","v":0},{"$f":"'Input Sheet'!M64","v":0},{"$f":"'Input Sheet'!N64","v":0},{"$f":"'Input Sheet'!O64","v":""},{"$error":"#VALUE!"},{"$f":"'Input Sheet'!Q64","v":0},{"$f":"'Input Sheet'!R64","v":0},{"$f":"'Input Sheet'!S64","v":0},{"$f":"'Input Sheet'!T64","v":""},{"$error":"#VALUE!"},{"$f":"'Input Sheet'!V64","v":0},{"$f":"'Input Sheet'!W64","v":0}]
[{"$f":"'Input Sheet'!C65","v":0},{"$f":"'Input Sheet'!D65","v":0},{"$f":"'Input Sheet'!E65","v":0},{"$f":"'Input Sheet'!F65","v":0},{"$f":"'Input Sheet'!G65","v":0},{"$f":"'Input Sheet'!H65","v":0},{"$f":"'Input Sheet'!I65","v":0},{"$f":"'Input Sheet'!J65","v":""},{"$error":"#VALUE!"},{"$f":"'Input Sheet'!L65","v":0},{"$f":"'Input Sheet'!M65","v":0},{"$f":"'Input Sheet'!N65","v":0},{"$f":"'Input Sheet'!O65","v":""},{"$error":"#VALUE!"},{"$f":"'Input Sheet'!Q65","v":0},{"$f":"'Input Sheet'!R65","v":0},{"$f":"'Input Sheet'!S65","v":0},{"$f":"'Input Sheet'!T65","v":""},{"$error":"#VALUE!"},{"$f":"'Input Sheet'!V65","v":0},{"$f":"'Input Sheet'!W65","v":0}]
[{"$f":"'Input Sheet'!C66","v":0},{"$f":"'Input Sheet'!D66","v":0},{"$f":"'Input Sheet'!E66","v":0},{"$f":"'Input Sheet'!F66","v":0},{"$f":"'Input Sheet'!G66","v":0},{"$f":"'Input Sheet'!H66","v":0},{"$f":"'Input Sheet'!I66","v":0},{"$f":"'Input Sheet'!J66","v":""},{"$error":"#VALUE!"},{"$f":"'Input Sheet'!L66","v":0},{"$f":"'Input Sheet'!M66","v":0},{"$f":"'Input Sheet'!N66","v":0},{"$f":"'Input Sheet'!O66","v":""},{"$error":"#VALUE!"},{"$f":"'Input Sheet'!Q66","v":0},{"$f":"'Input Sheet'!R66","v":0},{"$f":"'Input Sheet'!S66","v":0},{"$f":"'Input Sheet'!T66","v":""},{"$error":"#VALUE!"},{"$f":"'Input Sheet'!V66","v":0},{"$f":"'Input Sheet'!W66","v":0}]
[{"$f":"'Input Sheet'!C67","v":0},{"$f":"'Input Sheet'!D67","v":0},{"$f":"'Input Sheet'!E67","v":0},{"$f":"'Input Sheet'!F67","v":0},{"$f":"'Input Sheet'!G67","v":0},{"$f":"'Input Sheet'!H67","v":0},{"$f":"'Input Sheet'!I67","v":0},{"$f":"'Input Sheet'!J67","v":""},{"$error":"#VALUE!"},{"$f":"'Input Sheet'!L67","v":0},{"$f":"'Input Sheet'!M67","v":0},{"$f":"'Input Sheet'!N67","v":0},{"$f":"'Input Sheet'!O67","v":""},{"$error":"#VALUE!"},{"$f":"'Input Sheet'!Q67","v":0},{"$f":"'Input Sheet'!R67","v":0},{"$f":"'Input Sheet'!S67","v":0},{"$f":"'Input Sheet'!T67","v":""},{"$error":"#VALUE!"},{"$f":"'Input Sheet'!V67","v":0},{"$f":"'Input Sheet'!W67","v":0}]
[{"$f":"'Input Sheet'!C68","v":0},{"$f":"'Input Sheet'!D68","v":0},{"$f":"'Input Sheet'!E68","v":0},{"$f":"'Input Sheet'!F68","v":0},{"$f":"'Input Sheet'!G68","v":0},{"$f":"'Input Sheet'!H68","v":0},{"$f":"'Input Sheet'!I68","v":0},{"$f":"'Input Sheet'!J68","v":""},{"$error":"#VALUE!"},{"$f":"'Input Sheet'!L68","v":0},{"$f":"'Input Sheet'!M68","v":0},{"$f":"'Input Sheet'!N68","v":0},{"$f":"'Input Sheet'!O68","v":""},{"$error":"#VALUE!"},{"$f":"'Input Sheet'!Q68","v":0},{"$f":"'Input Sheet'!R68","v":0},{"$f":"'Input Sheet'!S68","v":0},{"$f":"'Input Sheet'!T68","v":""},{"$error":"#VALUE!"},{"$f":"'Input Sheet'!V68","v":0},{"$f":"'Input Sheet'!W68","v":0}]
[{"$f":"'Input Sheet'!C69","v":0},{"$f":"'Input Sheet'!D69","v":0},{"$f":"'Input Sheet'!E69","v":0},{"$f":"'Input Sheet'!F69","v":0},{"$f":"'Input Sheet'!G69","v":0},{"$f":"'Input Sheet'!H69","v":0},{"$f":"'Input Sheet'!I69","v":0},{"$f":"'Input Sheet'!J69","v":""},{"$error":"#VALUE!"},{"$f":"'Input Sheet'!L69","v":0},{"$f":"'Input Sheet'!M69","v":0},{"$f":"'Input Sheet'!N69","v":0},{"$f":"'Input Sheet'!O69","v":""},{"$error":"#VALUE!"},{"$f":"'Input Sheet'!Q69","v":0},{"$f":"'Input Sheet'!R69","v":0},{"$f":"'Input Sheet'!S69","v":0},{"$f":"'Input Sheet'!T69","v":""},{"$error":"#VALUE!"},{"$f":"'Input Sheet'!V69","v":0},{"$f":"'Input Sheet'!W69","v":0}]
[{"$f":"'Input Sheet'!C70","v":0},{"$f":"'Input Sheet'!D70","v":0},{"$f":"'Input Sheet'!E70","v":0},{"$f":"'Input Sheet'!F70","v":0},{"$f":"'Input Sheet'!G70","v":0},{"$f":"'Input Sheet'!H70","v":0},{"$f":"'Input Sheet'!I70","v":0},{"$f":"'Input Sheet'!J70","v":""},{"$error":"#VALUE!"},{"$f":"'Input Sheet'!L70","v":0},{"$f":"'Input Sheet'!M70","v":0},{"$f":"'Input Sheet'!N70","v":0},{"$f":"'Input Sheet'!O70","v":""},{"$error":"#VALUE!"},{"$f":"'Input Sheet'!Q70","v":0},{"$f":"'Input Sheet'!R70","v":0},{"$f":"'Input Sheet'!S70","v":0},{"$f":"'Input Sheet'!T70","v":""},{"$error":"#VALUE!"},{"$f":"'Input Sheet'!V70","v":0},{"$f":"'Input Sheet'!W70","v":0}]
[{"$f":"'Input Sheet'!C71","v":0},{"$f":"'Input Sheet'!D71","v":0},{"$f":"'Input Sheet'!E71","v":0},{"$f":"'Input Sheet'!F71","v":0},{"$f":"'Input Sheet'!G71","v":0},{"$f":"'Input Sheet'!H71","v":0},{"$f":"'Input Sheet'!I71","v":0},{"$f":"'Input Sheet'!J71","v":""},{"$error":"#VALUE!"},{"$f":"'Input Sheet'!L71","v":0},{"$f":"'Input Sheet'!M71","v":0},{"$f":"'Input Sheet'!N71","v":0},{"$f":"'Input Sheet'!O71","v":""},{"$error":"#VALUE!"},{"$f":"'Input Sheet'!Q71","v":0},{"$f":"'Input Sheet'!R71","v":0},{"$f":"'Input Sheet'!S71","v":0},{"$f":"'Input Sheet'!T71","v":""},{"$error":"#VALUE!"},{"$f":"'Input Sheet'!V71","v":0},{"$f":"'Input Sheet'!W71","v":0}]
[{"$f":"'Input Sheet'!C72","v":0},{"$f":"'Input Sheet'!D72","v":0},{"$f":"'Input Sheet'!E72","v":0},{"$f":"'Input Sheet'!F72","v":0},{"$f":"'Input Sheet'!G72","v":0},{"$f":"'Input Sheet'!H72","v":0},{"$f":"'Input Sheet'!I72","v":0},{"$f":"'Input Sheet'!J72","v":""},{"$error":"#VALUE!"},{"$f":"'Input Sheet'!L72","v":0},{"$f":"'Input Sheet'!M72","v":0},{"$f":"'Input Sheet'!N72","v":0},{"$f":"'Input Sheet'!O72","v":""},{"$error":"#VALUE!"},{"$f":"'Input Sheet'!Q72","v":0},{"$f":"'Input Sheet'!R72","v":0},{"$f":"'Input Sheet'!S72","v":0},{"$f":"'Input Sheet'!T72","v":""},{"$error":"#VALUE!"},{"$f":"'Input Sheet'!V72","v":0},{"$f":"'Input Sheet'!W72","v":0}]
[{"$f":"'Input Sheet'!C73","v":0},{"$f":"'Input Sheet'!D73","v":0},{"$f":"'Input Sheet'!E73","v":0},{"$f":"'Input Sheet'!F73","v":0},{"$f":"'Input Sheet'!G73","v":0},{"$f":"'Input Sheet'!H73","v":0},{"$f":"'Input Sheet'!I73","v":0},{"$f":"'Input Sheet'!J73","v":""},{"$error":"#VALUE!"},{"$f":"'Input Sheet'!L73","v":0},{"$f":"'Input Sheet'!M73","v":0},{"$f":"'Input Sheet'!N73","v":0},{"$f":"'Input Sheet'!O73","v":""},{"$error":"#VALUE!"},{"$f":"'Input Sheet'!Q73","v":0},{"$f":"'Input Sheet'!R73","v":0},{"$f":"'Input Sheet'!S73","v":0},{"$f":"'Input Sheet'!T73","v":""},{"$error":"#VALUE!"},{"$f":"'Input Sheet'!V73","v":0},{"$f":"'Input Sheet'!W73","v":0}]
[{"$f":"'Input Sheet'!C74","v":0},{"$f":"'Input Sheet'!D74","v":0},{"$f":"'Input Sheet'!E74","v":0},{"$f":"'Input Sheet'!F74","v":0},{"$f":"'Input Sheet'!G74","v":0},{"$f":"'Input Sheet'!H74","v":0},{"$f":"'Input Sheet'!I74","v":0},{"$f":"'Input Sheet'!J74","v":""},{"$error":"#VALUE!"},{"$f":"'Input Sheet'!L74","v":0},{"$f":"'Input Sheet'!M74","v":0},{"$f":"'Input Sheet'!N74","v":0},{"$f":"'Input Sheet'!O74","v":""},{"$error":"#VALUE!"},{"$f":"'Input Sheet'!Q74","v":0},{"$f":"'Input Sheet'!R74","v":0},{"$f":"'Input Sheet'!S74","v":0},{"$f":"'Input Sheet'!T74","v":""},{"$error":"#VALUE!"},{"$f":"'Input Sheet'!V74","v":0},{"$f":"'Input Sheet'!W74","v":0}]
[{"$f":"'Input Sheet'!C75","v":0},{"$f":"'Input Sheet'!D75","v":0},{"$f":"'Input Sheet'!E75","v":0},{"$f":"'Input Sheet'!F75","v":0},{"$f":"'Input Sheet'!G75","v":0},{"$f":"'Input Sheet'!H75","v":0},{"$f":"'Input Sheet'!I75","v":0},{"$f":"'Input Sheet'!J75","v":""},{"$error":"#VALUE!"},{"$f":"'Input Sheet'!L75","v":0},{"$f":"'Input Sheet'!M75","v":0},{"$f":"'Input Sheet'!N75","v":0},{"$f":"'Input Sheet'!O75","v":""},{"$error":"#VALUE!"},{"$f":"'Input Sheet'!Q75","v":0},{"$f":"'Input Sheet'!R75","v":0},{"$f":"'Input Sheet'!S75","v":0},{"$f":"'Input Sheet'!T75","v":""},{"$error":"#VALUE!"},{"$f":"'Input Sheet'!V75","v":0},{"$f":"'Input Sheet'!W75","v":0}]
[{"$f":"'Input Sheet'!C76","v":0},{"$f":"'Input Sheet'!D76","v":0},{"$f":"'Input Sheet'!E76","v":0},{"$f":"'Input Sheet'!F76","v":0},{"$f":"'Input Sheet'!G76","v":0},{"$f":"'Input Sheet'!H76","v":0},{"$f":"'Input Sheet'!I76","v":0},{"$f":"'Input Sheet'!J76","v":""},{"$error":"#VALUE!"},{"$f":"'Input Sheet'!L76","v":0},{"$f":"'Input Sheet'!M76","v":0},{"$f":"'Input Sheet'!N76","v":0},{"$f":"'Input Sheet'!O76","v":""},{"$error":"#VALUE!"},{"$f":"'Input Sheet'!Q76","v":0},{"$f":"'Input Sheet'!R76","v":0},{"$f":"'Input Sheet'!S76","v":0},{"$f":"'Input Sheet'!T76","v":""},{"$error":"#VALUE!"},{"$f":"'Input Sheet'!V76","v":0},{"$f":"'Input Sheet'!W76","v":0}]
[{"$f":"'Input Sheet'!C77","v":0},{"$f":"'Input Sheet'!D77","v":0},{"$f":"'Input Sheet'!E77","v":0},{"$f":"'Input Sheet'!F77","v":0},{"$f":"'Input Sheet'!G77","v":0},{"$f":"'Input Sheet'!H77","v":0},{"$f":"'Input Sheet'!I77","v":0},{"$f":"'Input Sheet'!J77","v":""},{"$error":"#VALUE!"},{"$f":"'Input Sheet'!L77","v":0},{"$f":"'Input Sheet'!M77","v":0},{"$f":"'Input Sheet'!N77","v":0},{"$f":"'Input Sheet'!O77","v":""},{"$error":"#VALUE!"},{"$f":"'Input Sheet'!Q77","v":0},{"$f":"'Input Sheet'!R77","v":0},{"$f":"'Input Sheet'!S77","v":0},{"$f":"'Input Sheet'!T77","v":""},{"$error":"#VALUE!"},{"$f":"'Input Sheet'!V77","v":0},{"$f":"'Input Sheet'!W77","v":0}]
[{"$f":"'Input Sheet'!C78","v":0},{"$f":"'Input Sheet'!D78","v":0},{"$f":"'Input Sheet'!E78","v":0},{"$f":"'Input Sheet'!F78","v":0},{"$f":"'Input Sheet'!G78","v":0},{"$f":"'Input Sheet'!H78","v":0},{"$f":"'Input Sheet'!I78","v":0},{"$f":"'Input Sheet'!J78","v":""},{"$error":"#VALUE!"},{"$f":"'Input Sheet'!L78","v":0},{"$f":"'Input Sheet'!M78","v":0},{"$f":"'Input Sheet'!N78","v":0},{"$f":"'Input Sheet'!O78","v":""},{"$error":"#VALUE!"},{"$f":"'Input Sheet'!Q78","v":0},{"$f":"'Input Sheet'!R78","v":0},{"$f":"'Input Sheet'!S78","v":0},{"$f":"'Input Sheet'!T78","v":""},{"$error":"#VALUE!"},{"$f":"'Input Sheet'!V78","v":0},{"$f":"'Input Sheet'!W78","v":0}]
[{"$f":"'Input Sheet'!C79","v":0},{"$f":"'Input Sheet'!D79","v":0},{"$f":"'Input Sheet'!E79","v":0},{"$f":"'Input Sheet'!F79","v":0},{"$f":"'Input Sheet'!G79","v":0},{"$f":"'Input Sheet'!H79","v":0},{"$f":"'Input Sheet'!I79","v":0},{"$f":"'Input Sheet'!J79","v":""},{"$error":"#VALUE!"},{"$f":"'Input Sheet'!L79","v":0},{"$f":"'Input Sheet'!M79","v":0},{"$f":"'Input Sheet'!N79","v":0},{"$f":"'Input Sheet'!O79","v":""},{"$error":"#VALUE!"},{"$f":"'Input Sheet'!Q79","v":0},{"$f":"'Input Sheet'!R79","v":0},{"$f":"'Input Sheet'!S79","v":0},{"$f":"'Input Sheet'!T79","v":""},{"$error":"#VALUE!"},{"$f":"'Input Sheet'!V79","v":0},{"$f":"'Input Sheet'!W79","v":0}]
[{"$f":"'Input Sheet'!C80","v":0},{"$f":"'Input Sheet'!D80","v":0},{"$f":"'Input Sheet'!E80","v":0},{"$f":"'Input Sheet'!F80","v":0},{"$f":"'Input Sheet'!G80","v":0},{"$f":"'Input Sheet'!H80","v":0},{"$f":"'Input Sheet'!I80","v":0},{"$f":"'Input Sheet'!J80","v":""},{"$error":"#VALUE!"},{"$f":"'Input Sheet'!L80","v":0},{"$f":"'Input Sheet'!M80","v":0},{"$f":"'Input Sheet'!N80","v":0},{"$f":"'Input Sheet'!O80","v":""},{"$error":"#VALUE!"},{"$f":"'Input Sheet'!Q80","v":0},{"$f":"'Input Sheet'!R80","v":0},{"$f":"'Input Sheet'!S80","v":0},{"$f":"'Input Sheet'!T80","v":""},{"$error":"#VALUE!"},{"$f":"'Input Sheet'!V80","v":0},{"$f":"'Input Sheet'!W80","v":0}]
[{"$f":"'Input Sheet'!C81","v":0},{"$f":"'Input Sheet'!D81","v":0},{"$f":"'Input Sheet'!E81","v":0},{"$f":"'Input Sheet'!F81","v":0},{"$f":"'Input Sheet'!G81","v":0},{"$f":"'Input Sheet'!H81","v":0},{"$f":"'Input Sheet'!I81","v":0},{"$f":"'Input Sheet'!J81","v":""},{"$error":"#VALUE!"},{"$f":"'Input Sheet'!L81","v":0},{"$f":"'Input Sheet'!M81","v":0},{"$f":"'Input Sheet'!N81","v":0},{"$f":"'Input Sheet'!O81","v":""},{"$error":"#VALUE!"},{"$f":"'Input Sheet'!Q81","v":0},{"$f":"'Input Sheet'!R81","v":0},{"$f":"'Input Sheet'!S81","v":0},{"$f":"'Input Sheet'!T81","v":""},{"$error":"#VALUE!"},{"$f":"'Input Sheet'!V81","v":0},{"$f":"'Input Sheet'!W81","v":0}]
[{"$f":"'Input Sheet'!C82","v":0},{"$f":"'Input Sheet'!D82","v":0},{"$f":"'Input Sheet'!E82","v":0},{"$f":"'Input Sheet'!F82","v":0},{"$f":"'Input Sheet'!G82","v":0},{"$f":"'Input Sheet'!H82","v":0},{"$f":"'Input Sheet'!I82","v":0},{"$f":"'Input Sheet'!J82","v":""},{"$error":"#VALUE!"},{"$f":"'Input Sheet'!L82","v":0},{"$f":"'Input Sheet'!M82","v":0},{"$f":"'Input Sheet'!N82","v":0},{"$f":"'Input Sheet'!O82","v":""},{"$error":"#VALUE!"},{"$f":"'Input Sheet'!Q82","v":0},{"$f":"'Input Sheet'!R82","v":0},{"$f":"'Input Sheet'!S82","v":0},{"$f":"'Input Sheet'!T82","v":""},{"$error":"#VALUE!"},{"$f":"'Input Sheet'!V82","v":0},{"$f":"'Input Sheet'!W82","v":0}]
[{"$f":"'Input Sheet'!C83","v":0},{"$f":"'Input Sheet'!D83","v":0},{"$f":"'Input Sheet'!E83","v":0},{"$f":"'Input Sheet'!F83","v":0},{"$f":"'Input Sheet'!G83","v":0},{"$f":"'Input Sheet'!H83","v":0},{"$f":"'Input Sheet'!I83","v":0},{"$f":"'Input Sheet'!J83","v":""},{"$error":"#VALUE!"},{"$f":"'Input Sheet'!L83","v":0},{"$f":"'Input Sheet'!M83","v":0},{"$f":"'Input Sheet'!N83","v":0},{"$f":"'Input Sheet'!O83","v":""},{"$error":"#VALUE!"},{"$f":"'Input Sheet'!Q83","v":0},{"$f":"'Input Sheet'!R83","v":0},{"$f":"'Input Sheet'!S83","v":0},{"$f":"'Input Sheet'!T83","v":""},{"$error":"#VALUE!"},{"$f":"'Input Sheet'!V83","v":0},{"$f":"'Input Sheet'!W83","v":0}]
[{"$f":"'Input Sheet'!C84","v":0},{"$f":"'Input Sheet'!D84","v":0},{"$f":"'Input Sheet'!E84","v":0},{"$f":"'Input Sheet'!F84","v":0},{"$f":"'Input Sheet'!G84","v":0},{"$f":"'Input Sheet'!H84","v":0},{"$f":"'Input Sheet'!I84","v":0},{"$f":"'Input Sheet'!J84","v":""},{"$error":"#VALUE!"},{"$f":"'Input Sheet'!L84","v":0},{"$f":"'Input Sheet'!M84","v":0},{"$f":"'Input Sheet'!N84","v":0},{"$f":"'Input Sheet'!O84","v":""},{"$error":"#VALUE!"},{"$f":"'Input Sheet'!Q84","v":0},{"$f":"'Input Sheet'!R84","v":0},{"$f":"'Input Sheet'!S84","v":0},{"$f":"'Input Sheet'!T84","v":""},{"$error":"#VALUE!"},{"$f":"'Input Sheet'!V84","v":0},{"$f":"'Input Sheet'!W84","v":0}]
[{"$f":"'Input Sheet'!C85","v":0},{"$f":"'Input Sheet'!D85","v":0},{"$f":"'Input Sheet'!E85","v":0},{"$f":"'Input Sheet'!F85","v":0},{"$f":"'Input Sheet'!G85","v":0},{"$f":"'Input Sheet'!H85","v":0},{"$f":"'Input Sheet'!I85","v":0},{"$f":"'Input Sheet'!J85","v":""},{"$error":"#VALUE!"},{"$f":"'Input Sheet'!L85","v":0},{"$f":"'Input Sheet'!M85","v":0},{"$f":"'Input Sheet'!N85","v":0},{"$f":"'Input Sheet'!O85","v":""},{"$error":"#VALUE!"},{"$f":"'Input Sheet'!Q85","v":0},{"$f":"'Input Sheet'!R85","v":0},{"$f":"'Input Sheet'!S85","v":0},{"$f":"'Input Sheet'!T85","v":""},{"$error":"#VALUE!"},{"$f":"'Input Sheet'!V85","v":0},{"$f":"'Input Sheet'!W85","v":0}]
[{"$f":"'Input Sheet'!C86","v":0},{"$f":"'Input Sheet'!D86","v":0},{"$f":"'Input Sheet'!E86","v":0},{"$f":"'Input Sheet'!F86","v":0},{"$f":"'Input Sheet'!G86","v":0},{"$f":"'Input Sheet'!H86","v":0},{"$f":"'Input Sheet'!I86","v":0},{"$f":"'Input Sheet'!J86","v":""},{"$error":"#VALUE!"},{"$f":"'Input Sheet'!L86","v":0},{"$f":"'Input Sheet'!M86","v":0},{"$f":"'Input Sheet'!N86","v":0},{"$f":"'Input Sheet'!O86","v":""},{"$error":"#VALUE!"},{"$f":"'Input Sheet'!Q86","v":0},{"$f":"'Input Sheet'!R86","v":0},{"$f":"'Input Sheet'!S86","v":0},{"$f":"'Input Sheet'!T86","v":""},{"$error":"#VALUE!"},{"$f":"'Input Sheet'!V86","v":0},{"$f":"'Input Sheet'!W86","v":0}]
[{"$f":"'Input Sheet'!C87","v":0},{"$f":"'Input Sheet'!D87","v":0},{"$f":"'Input Sheet'!E87","v":0},{"$f":"'Input Sheet'!F87","v":0},{"$f":"'Input Sheet'!G87","v":0},{"$f":"'Input Sheet'!H87","v":0},{"$f":"'Input Sheet'!I87","v":0},{"$f":"'Input Sheet'!J87","v":""},{"$error":"#VALUE!"},{"$f":"'Input Sheet'!L87","v":0},{"$f":"'Input Sheet'!M87","v":0},{"$f":"'Input Sheet'!N87","v":0},{"$f":"'Input Sheet'!O87","v":""},{"$error":"#VALUE!"},{"$f":"'Input Sheet'!Q87","v":0},{"$f":"'Input Sheet'!R87","v":0},{"$f":"'Input Sheet'!S87","v":0},{"$f":"'Input Sheet'!T87","v":""},{"$error":"#VALUE!"},{"$f":"'Input Sheet'!V87","v":0},{"$f":"'Input Sheet'!W87","v":0}]
[{"$f":"'Input Sheet'!C88","v":0},{"$f":"'Input Sheet'!D88","v":0},{"$f":"'Input Sheet'!E88","v":0},{"$f":"'Input Sheet'!F88","v":0},{"$f":"'Input Sheet'!G88","v":0},{"$f":"'Input Sheet'!H88","v":0},{"$f":"'Input Sheet'!I88","v":0},{"$f":"'Input Sheet'!J88","v":""},{"$error":"#VALUE!"},{"$f":"'Input Sheet'!L88","v":0},{"$f":"'Input Sheet'!M88","v":0},{"$f":"'Input Sheet'!N88","v":0},{"$f":"'Input Sheet'!O88","v":""},{"$error":"#VALUE!"},{"$f":"'Input Sheet'!Q88","v":0},{"$f":"'Input Sheet'!R88","v":0},{"$f":"'Input Sheet'!S88","v":0},{"$f":"'Input Sheet'!T88","v":""},{"$error":"#VALUE!"},{"$f":"'Input Sheet'!V88","v":0},{"$f":"'Input Sheet'!W88","v":0}]
[{"$f":"'Input Sheet'!C89","v":0},{"$f":"'Input Sheet'!D89","v":0},{"$f":"'Input Sheet'!E89","v":0},{"$f":"'Input Sheet'!F89","v":0},{"$f":"'Input Sheet'!G89","v":0},{"$f":"'Input Sheet'!H89","v":0},{"$f":"'Input Sheet'!I89","v":0},{"$f":"'Input Sheet'!J89","v":""},{"$error":"#VALUE!"},{"$f":"'Input Sheet'!L89","v":0},{"$f":"'Input Sheet'!M89","v":0},{"$f":"'Input Sheet'!N89","v":0},{"$f":"'Input Sheet'!O89","v":""},{"$error":"#VALUE!"},{"$f":"'Input Sheet'!Q89","v":0},{"$f":"'Input Sheet'!R89","v":0},{"$f":"'Input Sheet'!S89","v":0},{"$f":"'Input Sheet'!T89","v":""},{"$error":"#VALUE!"},{"$f":"'Input Sheet'!V89","v":0},{"$f":"'Input Sheet'!W89","v":0}]
[{"$f":"'Input Sheet'!C90","v":0},{"$f":"'Input Sheet'!D90","v":0},{"$f":"'Input Sheet'!E90","v":0},{"$f":"'Input Sheet'!F90","v":0},{"$f":"'Input Sheet'!G90","v":0},{"$f":"'Input Sheet'!H90","v":0},{"$f":"'Input Sheet'!I90","v":0},{"$f":"'Input Sheet'!J90","v":""},{"$error":"#VALUE!"},{"$f":"'Input Sheet'!L90","v":0},{"$f":"'Input Sheet'!M90","v":0},{"$f":"'Input Sheet'!N90","v":0},{"$f":"'Input Sheet'!O90","v":""},{"$error":"#VALUE!"},{"$f":"'Input Sheet'!Q90","v":0},{"$f":"'Input Sheet'!R90","v":0},{"$f":"'Input Sheet'!S90","v":0},{"$f":"'Input Sheet'!T90","v":""},{"$error":"#VALUE!"},{"$f":"'Input Sheet'!V90","v":0},{"$f":"'Input Sheet'!W90","v":0}]
[{"$f":"'Input Sheet'!C91","v":0},{"$f":"'Input Sheet'!D91","v":0},{"$f":"'Input Sheet'!E91","v":0},{"$f":"'Input Sheet'!F91","v":0},{"$f":"'Input Sheet'!G91","v":0},{"$f":"'Input Sheet'!H91","v":0},{"$f":"'Input Sheet'!I91","v":0},{"$f":"'Input Sheet'!J91","v":""},{"$error":"#VALUE!"},{"$f":"'Input Sheet'!L91","v":0},{"$f":"'Input Sheet'!M91","v":0},{"$f":"'Input Sheet'!N91","v":0},{"$f":"'Input Sheet'!O91","v":""},{"$error":"#VALUE!"},{"$f":"'Input Sheet'!Q91","v":0},{"$f":"'Input Sheet'!R91","v":0},{"$f":"'Input Sheet'!S91","v":0},{"$f":"'Input Sheet'!T91","v":""},{"$error":"#VALUE!"},{"$f":"'Input Sheet'!V91","v":0},{"$f":"'Input Sheet'!W91","v":0}]
[{"$f":"'Input Sheet'!C92","v":0},{"$f":"'Input Sheet'!D92","v":0},{"$f":"'Input Sheet'!E92","v":0},{"$f":"'Input Sheet'!F92","v":0},{"$f":"'Input Sheet'!G92","v":0},{"$f":"'Input Sheet'!H92","v":0},{"$f":"'Input Sheet'!I92","v":0},{"$f":"'Input Sheet'!J92","v":""},{"$error":"#VALUE!"},{"$f":"'Input Sheet'!L92","v":0},{"$f":"'Input Sheet'!M92","v":0},{"$f":"'Input Sheet'!N92","v":0},{"$f":"'Input Sheet'!O92","v":""},{"$error":"#VALUE!"},{"$f":"'Input Sheet'!Q92","v":0},{"$f":"'Input Sheet'!R92","v":0},{"$f":"'Input Sheet'!S92","v":0},{"$f":"'Input Sheet'!T92","v":""},{"$error":"#VALUE!"},{"$f":"'Input Sheet'!V92","v":0},{"$f":"'Input Sheet'!W92","v":0}]
[{"$f":"'Input Sheet'!C93","v":0},{"$f":"'Input Sheet'!D93","v":0},{"$f":"'Input Sheet'!E93","v":0},{"$f":"'Input Sheet'!F93","v":0},{"$f":"'Input Sheet'!G93","v":0},{"$f":"'Input Sheet'!H93","v":0},{"$f":"'Input Sheet'!I93","v":0},{"$f":"'Input Sheet'!J93","v":""},{"$error":"#VALUE!"},{"$f":"'Input Sheet'!L93","v":0},{"$f":"'Input Sheet'!M93","v":0},{"$f":"'Input Sheet'!N93","v":0},{"$f":"'Input Sheet'!O93","v":""},{"$error":"#VALUE!"},{"$f":"'Input Sheet'!Q93","v":0},{"$f":"'Input Sheet'!R93","v":0},{"$f":"'Input Sheet'!S93","v":0},{"$f":"'Input Sheet'!T93","v":""},{"$error":"#VALUE!"},{"$f":"'Input Sheet'!V93","v":0},{"$f":"'Input Sheet'!W93","v":0}]
[{"$f":"'Input Sheet'!C94","v":0},{"$f":"'Input Sheet'!D94","v":0},{"$f":"'Input Sheet'!E94","v":0},{"$f":"'Input Sheet'!F94","v":0},{"$f":"'Input Sheet'!G94","v":0},{"$f":"'Input Sheet'!H94","v":0},{"$f":"'Input Sheet'!I94","v":0},{"$f":"'Input Sheet'!J94","v":""},{"$error":"#VALUE!"},{"$f":"'Input Sheet'!L94","v":0},{"$f":"'Input Sheet'!M94","v":0},{"$f":"'Input Sheet'!N94","v":0},{"$f":"'Input Sheet'!O94","v":""},{"$error":"#VALUE!"},{"$f":"'Input Sheet'!Q94","v":0},{"$f":"'Input Sheet'!R94","v":0},{"$f":"'Input Sheet'!S94","v":0},{"$f":"'Input Sheet'!T94","v":""},{"$error":"#VALUE!"},{"$f":"'Input Sheet'!V94","v":0},{"$f":"'Input Sheet'!W94","v":0}]
[{"$f":"'Input Sheet'!C95","v":0},{"$f":"'Input Sheet'!D95","v":0},{"$f":"'Input Sheet'!E95","v":0},{"$f":"'Input Sheet'!F95","v":0},{"$f":"'Input Sheet'!G95","v":0},{"$f":"'Input Sheet'!H95","v":0},{"$f":"'Input Sheet'!I95","v":0},{"$f":"'Input Sheet'!J95","v":""},{"$error":"#VALUE!"},{"$f":"'Input Sheet'!L95","v":0},{"$f":"'Input Sheet'!M95","v":0},{"$f":"'Input Sheet'!N95","v":0},{"$f":"'Input Sheet'!O95","v":""},{"$error":"#VALUE!"},{"$f":"'Input Sheet'!Q95","v":0},{"$f":"'Input Sheet'!R95","v":0},{"$f":"'Input Sheet'!S95","v":0},{"$f":"'Input Sheet'!T95","v":""},{"$error":"#VALUE!"},{"$f":"'Input Sheet'!V95","v":0},{"$f":"'Input Sheet'!W95","v":0}]
[{"$f":"'Input Sheet'!C96","v":0},{"$f":"'Input Sheet'!D96","v":0},{"$f":"'Input Sheet'!E96","v":0},{"$f":"'Input Sheet'!F96","v":0},{"$f":"'Input Sheet'!G96","v":0},{"$f":"'Input Sheet'!H96","v":0},{"$f":"'Input Sheet'!I96","v":0},{"$f":"'Input Sheet'!J96","v":""},{"$error":"#VALUE!"},{"$f":"'Input Sheet'!L96","v":0},{"$f":"'Input Sheet'!M96","v":0},{"$f":"'Input Sheet'!N96","v":0},{"$f":"'Input Sheet'!O96","v":""},{"$error":"#VALUE!"},{"$f":"'Input Sheet'!Q96","v":0},{"$f":"'Input Sheet'!R96","v":0},{"$f":"'Input Sheet'!S96","v":0},{"$f":"'Input Sheet'!T96","v":""},{"$error":"#VALUE!"},{"$f":"'Input Sheet'!V96","v":0},{"$f":"'Input Sheet'!W96","v":0}]
[{"$f":"'Input Sheet'!C97","v":0},{"$f":"'Input Sheet'!D97","v":0},{"$f":"'Input Sheet'!E97","v":0},{"$f":"'Input Sheet'!F97","v":0},{"$f":"'Input Sheet'!G97","v":0},{"$f":"'Input Sheet'!H97","v":0},{"$f":"'Input Sheet'!I97","v":0},{"$f":"'Input Sheet'!J97","v":""},{"$error":"#VALUE!"},{"$f":"'Input Sheet'!L97","v":0},{"$f":"'Input Sheet'!M97","v":0},{"$f":"'Input Sheet'!N97","v":0},{"$f":"'Input Sheet'!O97","v":""},{"$error":"#VALUE!"},{"$f":"'Input Sheet'!Q97","v":0},{"$f":"'Input Sheet'!R97","v":0},{"$f":"'Input Sheet'!S97","v":0},{"$f":"'Input Sheet'!T97","v":""},{"$error":"#VALUE!"},{"$f":"'Input Sheet'!V97","v":0},{"$f":"'Input Sheet'!W97","v":0}]
[{"$f":"'Input Sheet'!C98","v":0},{"$f":"'Input Sheet'!D98","v":0},{"$f":"'Input Sheet'!E98","v":0},{"$f":"'Input Sheet'!F98","v":0},{"$f":"'Input Sheet'!G98","v":0},{"$f":"'Input Sheet'!H98","v":0},{"$f":"'Input Sheet'!I98","v":0},{"$f":"'Input Sheet'!J98","v":""},{"$error":"#VALUE!"},{"$f":"'Input Sheet'!L98","v":0},{"$f":"'Input Sheet'!M98","v":0},{"$f":"'Input Sheet'!N98","v":0},{"$f":"'Input Sheet'!O98","v":""},{"$error":"#VALUE!"},{"$f":"'Input Sheet'!Q98","v":0},{"$f":"'Input Sheet'!R98","v":0},{"$f":"'Input Sheet'!S98","v":0},{"$f":"'Input Sheet'!T98","v":""},{"$error":"#VALUE!"},{"$f":"'Input Sheet'!V98","v":0},{"$f":"'Input Sheet'!W98","v":0}]
[{"$f":"'Input Sheet'!C99","v":0},{"$f":"'Input Sheet'!D99","v":0},{"$f":"'Input Sheet'!E99","v":0},{"$f":"'Input Sheet'!F99","v":0},{"$f":"'Input Sheet'!G99","v":0},{"$f":"'Input Sheet'!H99","v":0},{"$f":"'Input Sheet'!I99","v":0},{"$f":"'Input Sheet'!J99","v":""},{"$error":"#VALUE!"},{"$f":"'Input Sheet'!L99","v":0},{"$f":"'Input Sheet'!M99","v":0},{"$f":"'Input Sheet'!N99","v":0},{"$f":"'Input Sheet'!O99","v":""},{"$error":"#VALUE!"},{"$f":"'Input Sheet'!Q99","v":0},{"$f":"'Input Sheet'!R99","v":0},{"$f":"'Input Sheet'!S99","v":0},{"$f":"'Input Sheet'!T99","v":""},{"$error":"#VALUE!"},{"$f":"'Input Sheet'!V99","v":0},{"$f":"'Input Sheet'!W99","v":0}]
[{"$f":"'Input Sheet'!C100","v":0},{"$f":"'Input Sheet'!D100","v":0},{"$f":"'Input Sheet'!E100","v":0},{"$f":"'Input Sheet'!F100","v":0},{"$f":"'Input Sheet'!G100","v":0},{"$f":"'Input Sheet'!H100","v":0},{"$f":"'Input Sheet'!I100","v":0},{"$f":"'Input Sheet'!J100","v":""},{"$error":"#VALUE!"},{"$f":"'Input Sheet'!L100","v":0},{"$f":"'Input Sheet'!M100","v":0},{"$f":"'Input Sheet'!N100","v":0},{"$f":"'Input Sheet'!O100","v":""},{"$error":"#VALUE!"},{"$f":"'Input Sheet'!Q100","v":0},{"$f":"'Input Sheet'!R100","v":0},{"$f":"'Input Sheet'!S100","v":0},{"$f":"'Input Sheet'!T100","v":""},{"$error":"#VALUE!"},{"$f":"'Input Sheet'!V100","v":0},{"$f":"'Input Sheet'!W100","v":0}]
[{"$f":"'Input Sheet'!C101","v":0},{"$f":"'Input Sheet'!D101","v":0},{"$f":"'Input Sheet'!E101","v":0},{"$f":"'Input Sheet'!F101","v":0},{"$f":"'Input Sheet'!G101","v":0},{"$f":"'Input Sheet'!H101","v":0},{"$f":"'Input Sheet'!I101","v":0},{"$f":"'Input Sheet'!J101","v":""},{"$error":"#VALUE!"},{"$f":"'Input Sheet'!L101","v":0},{"$f":"'Input Sheet'!M101","v":0},{"$f":"'Input Sheet'!N101","v":0},{"$f":"'Input Sheet'!O101","v":""},{"$error":"#VALUE!"},{"$f":"'Input Sheet'!Q101","v":0},{"$f":"'Input Sheet'!R101","v":0},{"$f":"'Input Sheet'!S101","v":0},{"$f":"'Input Sheet'!T101","v":""},{"$error":"#VALUE!"},{"$f":"'Input Sheet'!V101","v":0},{"$f":"'Input Sheet'!W101","v":0}]
[{"$f":"'Input Sheet'!C102","v":0},{"$f":"'Input Sheet'!D102","v":0},{"$f":"'Input Sheet'!E102","v":0},{"$f":"'Input Sheet'!F102","v":0},{"$f":"'Input Sheet'!G102","v":0},{"$f":"'Input Sheet'!H102","v":0},{"$f":"'Input Sheet'!I102","v":0},{"$f":"'Input Sheet'!J102","v":""},{"$error":"#VALUE!"},{"$f":"'Input Sheet'!L102","v":0},{"$f":"'Input Sheet'!M102","v":0},{"$f":"'Input Sheet'!N102","v":0},{"$f":"'Input Sheet'!O102","v":""},{"$error":"#VALUE!"},{"$f":"'Input Sheet'!Q102","v":0},{"$f":"'Input Sheet'!R102","v":0},{"$f":"'Input Sheet'!S102","v":0},{"$f":"'Input Sheet'!T102","v":""},{"$error":"#VALUE!"},{"$f":"'Input Sheet'!V102","v":0},{"$f":"'Input Sheet'!W102","v":0}]
[{"$f":"'Input Sheet'!C103","v":0},{"$f":"'Input Sheet'!D103","v":0},{"$f":"'Input Sheet'!E103","v":0},{"$f":"'Input Sheet'!F103","v":0},{"$f":"'Input Sheet'!G103","v":0},{"$f":"'Input Sheet'!H103","v":0},{"$f":"'Input Sheet'!I103","v":0},{"$f":"'Input Sheet'!J103","v":""},{"$error":"#VALUE!"},{"$f":"'Input Sheet'!L103","v":0},{"$f":"'Input Sheet'!M103","v":0},{"$f":"'Input Sheet'!N103","v":0},{"$f":"'Input Sheet'!O103","v":""},{"$error":"#VALUE!"},{"$f":"'Input Sheet'!Q103","v":0},{"$f":"'Input Sheet'!R103","v":0},{"$f":"'Input Sheet'!S103","v":0},{"$f":"'Input Sheet'!T103","v":""},{"$error":"#VALUE!"},{"$f":"'Input Sheet'!V103","v":0},{"$f":"'Input Sheet'!W103","v":0}]
[{"$f":"'Input Sheet'!C104","v":0},{"$f":"'Input Sheet'!D104","v":0},{"$f":"'Input Sheet'!E104","v":0},{"$f":"'Input Sheet'!F104","v":0},{"$f":"'Input Sheet'!G104","v":0},{"$f":"'Input Sheet'!H104","v":0},{"$f":"'Input Sheet'!I104","v":0},{"$f":"'Input Sheet'!J104","v":""},{"$error":"#VALUE!"},{"$f":"'Input Sheet'!L104","v":0},{"$f":"'Input Sheet'!M104","v":0},{"$f":"'Input Sheet'!N104","v":0},{"$f":"'Input Sheet'!O104","v":""},{"$error":"#VALUE!"},{"$f":"'Input Sheet'!Q104","v":0},{"$f":"'Input Sheet'!R104","v":0},{"$f":"'Input Sheet'!S104","v":0},{"$f":"'Input Sheet'!T104","v":""},{"$error":"#VALUE!"},{"$f":"'Input Sheet'!V104","v":0},{"$f":"'Input Sheet'!W104","v":0}]
[{"$f":"'Input Sheet'!C105","v":0},{"$f":"'Input Sheet'!D105","v":0},{"$f":"'Input Sheet'!E105","v":0},{"$f":"'Input Sheet'!F105","v":0},{"$f":"'Input Sheet'!G105","v":0},{"$f":"'Input Sheet'!H105","v":0},{"$f":"'Input Sheet'!I105","v":0},{"$f":"'Input Sheet'!J105","v":""},{"$error":"#VALUE!"},{"$f":"'Input Sheet'!L105","v":0},{"$f":"'Input Sheet'!M105","v":0},{"$f":"'Input Sheet'!N105","v":0},{"$f":"'Input Sheet'!O105","v":""},{"$error":"#VALUE!"},{"$f":"'Input Sheet'!Q105","v":0},{"$f":"'Input Sheet'!R105","v":0},{"$f":"'Input Sheet'!S105","v":0},{"$f":"'Input Sheet'!T105","v":""},{"$error":"#VALUE!"},{"$f":"'Input Sheet'!V105","v":0},{"$f":"'Input Sheet'!W105","v":0}]
["RO's 51-100",null,null,"Totals",{"$f":"SUM(E6:E55)","v":0},{"$f":"SUM(F6:F55)","v":0},null,null,{"$f":"SUM(I6:I55)","v":{"$error":"#VALUE!"}},{"$f":"SUM(J6:J55)","v":0},{"$f":"SUM(K6:K55)","v":0},null,null,{"$f":"SUM(N6:N55)","v":{"$error":"#VALUE!"}},{"$f":"SUM(O6:O55)","v":0},{"$f":"SUM(P6:P55)","v":0},null,null,{"$f":"SUM(S6:S55)","v":{"$error":"#VALUE!"}},{"$f":"SUM(T6:T55)","v":0},{"$f":"COUNTIF(U5:U55,1)","v":0}]
["Date of Study:",null,null,null,"C Labor",null,null,null,null,"M Labor",null,null,null,null,"R Labor",null,null,null,null,"Total Cost of Labor","One Item Repair Order"]
["Study Compiled by",null,null,null,"Labor Sales","Flat Rate Hours","Technician Number","Pay Per FRH","Labor Cost ","Labor Sales","Flat Rate Hours","Technician Number","Pay Per FRH","Labor Cost ","Labor Sales","Flat Rate Hours","Technician Number","Pay Per FRH","Labor Cost "]

{"sheet":"Summary Report","index":5,"n_rows":28,"n_cols":12,"rows_kept":28,"cut":false,"hidden":false,"merged":[[26,11,27,11],[26,7,26,8],[28,2,28,10],[26,4,26,5],[27,4,27,5],[27,7,27,8],[11,2,11,9],[15,2,15,9],[25,4,25,5],[25,7,25,8],[24,2,24,9],[9,2,9,3],[0,2,0,10],[2,6,3,6],[2,4,3,5],[3,9,3,10],[1,2,1,10]]}
[null,null,"Repair Order Analysis Summary Report "]
[]
[null,null,null,null,"Sales in Dollars",null,"FRH's on RO's"]
[null,null,null,null,null,null,null,null,"Averages","Analysis"]
[null,null,"Competitive",null,{"$f":"'RO Report 1-50'!E56+'RO Report 51-100'!E56","v":0},"÷",{"$f":"'RO Report 1-50'!F56+'RO Report 51-100'!F56","v":0},"=",{"$f":"IF(ISERROR(E5/G5),\"\",E5/G5)","v":""},"FRH Average"]
[null,null,"Maintenance",null,{"$f":"'RO Report 1-50'!J56+'RO Report 51-100'!J56","v":0},"÷",{"$f":"'RO Report 1-50'!K56+'RO Report 51-100'!K56","v":0},"=",{"$f":"IF(ISERROR(E6/G6),\"\",E6/G6)","v":""},"FRH Average"]
[null,null,"Repair",null,{"$f":"'RO Report 1-50'!O56+'RO Report 51-100'!O56","v":0},"÷",{"$f":"'RO Report 1-50'!P56+'RO Report 51-100'!P56","v":0},"=",{"$f":"IF(ISERROR(E7/G7),\"\",E7/G7)","v":""},"FRH Average"]
[null,null,"Totals",null,{"$f":"SUM(E5:E7)","v":0},"÷",{"$f":"SUM(G5:G7)","v":0},"=",{"$f":"IF(ISERROR(E8/G8),\"\",E8/G8)","v":""},"Customer ELR"]
[null,null,null,null,null,null,null,"Target Labor Rate",null,"Per FRH"]
[null,null,"Total Ro's in Sample",null,0,null,null,"Difference",{"$f":"IF(ISERROR(I8-I9),\"\",I8-I9)","v":""},"Per FRH"]
[]
[null,null,"Cost of Labor"]
[null,null,"Total Cost of Labor",null,{"$f":"'Input Sheet'!V106","v":0},"÷","Total Sales","=",{"$f":"IF(ISERROR(E13/E8),\"\",E13/E8)","v":""},"Percent Cost of Sales"]
[null,null,"Total Cost of Labor",null,{"$f":"E13","v":0},"÷","Total FRH's","=",{"$f":"IF(ISERROR(E14/G8),\"\",E14/G8)","v":""},"Cost per FRH"]
[]
[null,null,"Repair Order Measurements"]
[null,null,"Total Labor Sales",null,{"$f":"E8","v":0},"÷","Total RO's","=",{"$f":"IF(ISERROR(E17/E10),\"\",E17/E10)","v":""},"Avg Labor per RO"]
[null,null,"Total FRH's",null,{"$f":"G8","v":0},"÷","Total RO's","=",{"$f":"IF(ISERROR(E18/E10),\"\",E18/E10)","v":""},"Avg FRH's per RO"]
[null,null,"Menu Sales",null,null,"÷","Total RO's","=",null,"Percent Menu Sales"]
[null,null,"Competitive FRH's",null,{"$f":"G5","v":0},"÷","Total FRH's","=",{"$f":"IF(ISERROR(E20/G8),\"\",(E20/G8))","v":""},"Percent Competitive"]
[null,null,"Maintenance FRH's",null,{"$f":"G6","v":0},"÷","Total FRH's","=",{"$f":"IF(ISERROR(E21/G8),\"\",(E21/G8))","v":""},"Percent Maintenance "]
[null,null,"Repair FRH'",null,{"$f":"G7","v":0},"÷","Total FRH's","=",{"$f":"IF(ISERROR(E22/G8),\"\",E22/G8)","v":""},"Percent Repair "]
[null,null,"One item RO's",null,{"$f":"'RO Report 1-50'!U56+'RO Report 51-100'!U56","v":0},"÷","Total RO's","=",{"$f":"IF(ISERROR(E23/E10),\"\",E23/E10)","v":""},"Percent One Item RO"]
[]
[null,null,"Model Year Analysis"]
[null,null,{"$f":"YEAR(Title!K17)+1","v":2018},{"$f":"YEAR(Title!K17)","v":2017},{"$f":"YEAR(Title!K17)-1","v":2016},null,{"$f":"YEAR(Title!K17)-2","v":2015},{"$f":"YEAR(Title!K17)-3","v":2014},null,{"$f":"YEAR(Title!K17)-4","v":2013},"Older","Total"]
[null,null,{"$f":"COUNTIF('Input Sheet'!D6:D105,C26)","v":0},{"$f":"COUNTIF('Input Sheet'!D6:D105,D26)","v":0},{"$f":"COUNTIF('Input Sheet'!D6:D105,E26)","v":0},null,{"$f":"COUNTIF('Input Sheet'!D6:D105,G26)","v":0},{"$f":"COUNTIF('Input Sheet'!D6:D105,H26)","v":0},null,{"$f":"COUNTIF('Input Sheet'!D6:D105,J26)","v":0},{"$f":"L27-(SUM(C27:J27))","v":0},{"$f":"DCOUNTA('Input Sheet'!C4:F105,\"Year\",'Input Sheet'!D4:D105)","v":0}]
[null,null,{"$f":"IF(ISERROR(C27/L27),\"\",C27/L27)","v":""},{"$f":"IF(ISERROR(D27/L27),\"\",D27/L27)","v":""},{"$f":"IF(ISERROR(E27/L27),\"\",E27/L27)","v":""},null,{"$f":"IF(ISERROR(G27/L27),\"\",G27/L27)","v":""},{"$f":"IF(ISERROR(H27/L27),\"\",H27/L27)","v":""},null,{"$f":"IF(ISERROR(J27/L27),\"\",J27/L27)","v":""},{"$f":"IF(ISERROR(K27/L27),\"\",K27/L27)","v":""}]